BEGIN:VCALENDAR
VERSION:2.0
PRODID:-//Central Okanagan Economic Development Commission - ECPv6.15.18//NONSGML v1.0//EN
CALSCALE:GREGORIAN
METHOD:PUBLISH
X-ORIGINAL-URL:https://www.investkelowna.com
X-WR-CALDESC:Events for Central Okanagan Economic Development Commission
REFRESH-INTERVAL;VALUE=DURATION:PT1H
X-Robots-Tag:noindex
X-PUBLISHED-TTL:PT1H
BEGIN:VTIMEZONE
TZID:America/Vancouver
BEGIN:DAYLIGHT
TZOFFSETFROM:-0800
TZOFFSETTO:-0700
TZNAME:PDT
DTSTART:20240310T100000
END:DAYLIGHT
BEGIN:STANDARD
TZOFFSETFROM:-0700
TZOFFSETTO:-0800
TZNAME:PST
DTSTART:20241103T090000
END:STANDARD
BEGIN:DAYLIGHT
TZOFFSETFROM:-0800
TZOFFSETTO:-0700
TZNAME:PDT
DTSTART:20250309T100000
END:DAYLIGHT
BEGIN:STANDARD
TZOFFSETFROM:-0700
TZOFFSETTO:-0800
TZNAME:PST
DTSTART:20251102T090000
END:STANDARD
BEGIN:DAYLIGHT
TZOFFSETFROM:-0800
TZOFFSETTO:-0700
TZNAME:PDT
DTSTART:20260308T100000
END:DAYLIGHT
BEGIN:STANDARD
TZOFFSETFROM:-0700
TZOFFSETTO:-0800
TZNAME:PST
DTSTART:20261101T090000
END:STANDARD
END:VTIMEZONE
BEGIN:VEVENT
DTSTART;TZID=America/Vancouver:20250129T080000
DTEND;TZID=America/Vancouver:20250129T093000
DTSTAMP:20260424T182719
CREATED:20250115T225413Z
LAST-MODIFIED:20250115T225413Z
UID:7365-1738137600-1738143000@www.investkelowna.com
SUMMARY:Young Professional Coffee Social
DESCRIPTION:Kick off the new year with our first Coffee Social of the year\, combining networking\, community connection\, and exploring the syilx culture and heritage! \nJoin us at Sncewips Heritage Museum on Jan 29th from 8:00 to 9:30 am to expand your professional and social network. You will enjoy a guided tour of the museum from 9:00 to 9:30 am to learn about the traditional\, ancestral\, and unceded territory of the syilx people. As an Indigenous owned and operated business\, the museum holds space for syilx voices\, connects our community\, and maintains a safe space for open\, honest conversation. \nRegister on Eventbrite – https://www.eventbrite.ca/e/young-professional-coffee-social-tickets-1118134262679?aff=erele
URL:https://www.investkelowna.com/event/young-professional-coffee-social-13/
LOCATION:Sncewips Heritage Museum and Gift Store\, 525 British Columbia 97 #Unit 260\, Westbank\, British Columbia\, V1Z 4C9\, Canada
ATTACH;FMTTYPE=image/png:https://www.investkelowna.com/wp-content/uploads/2025/01/Eventbrite-Coffee-Social-WFN-Sncewips-1.png
ORGANIZER;CN="OYP Collective":MAILTO:oyp@investkelowna.com
END:VEVENT
END:VCALENDAR