BEGIN:VCALENDAR
VERSION:2.0
PRODID:-//Central Okanagan Economic Development Commission - ECPv6.15.18//NONSGML v1.0//EN
CALSCALE:GREGORIAN
METHOD:PUBLISH
X-WR-CALNAME:Central Okanagan Economic Development Commission
X-ORIGINAL-URL:https://www.investkelowna.com
X-WR-CALDESC:Events for Central Okanagan Economic Development Commission
REFRESH-INTERVAL;VALUE=DURATION:PT1H
X-Robots-Tag:noindex
X-PUBLISHED-TTL:PT1H
BEGIN:VTIMEZONE
TZID:America/Vancouver
BEGIN:DAYLIGHT
TZOFFSETFROM:-0800
TZOFFSETTO:-0700
TZNAME:PDT
DTSTART:20240310T100000
END:DAYLIGHT
BEGIN:STANDARD
TZOFFSETFROM:-0700
TZOFFSETTO:-0800
TZNAME:PST
DTSTART:20241103T090000
END:STANDARD
BEGIN:DAYLIGHT
TZOFFSETFROM:-0800
TZOFFSETTO:-0700
TZNAME:PDT
DTSTART:20250309T100000
END:DAYLIGHT
BEGIN:STANDARD
TZOFFSETFROM:-0700
TZOFFSETTO:-0800
TZNAME:PST
DTSTART:20251102T090000
END:STANDARD
BEGIN:DAYLIGHT
TZOFFSETFROM:-0800
TZOFFSETTO:-0700
TZNAME:PDT
DTSTART:20260308T100000
END:DAYLIGHT
BEGIN:STANDARD
TZOFFSETFROM:-0700
TZOFFSETTO:-0800
TZNAME:PST
DTSTART:20261101T090000
END:STANDARD
END:VTIMEZONE
BEGIN:VEVENT
DTSTART;TZID=America/Vancouver:20250130T120000
DTEND;TZID=America/Vancouver:20250130T170000
DTSTAMP:20260424T182625
CREATED:20250123T214527Z
LAST-MODIFIED:20250123T214527Z
UID:7545-1738238400-1738256400@www.investkelowna.com
SUMMARY:LEVEL UP – AI Summit Series
DESCRIPTION:If you missed the AI Summit or couldn’t attend\, now’s your chance to catch up on gaining knowledge and tools to put AI to work in your business so you can leverage more from the people you have and focus on growing your business. Join Csek Creative at the Laurel Packinghouse  for a dynamic half-day event featuring a special screening and recap of Peter H. Diamandis. \nRegister here! \n 
URL:https://www.investkelowna.com/event/level-up-ai-summit-series/
LOCATION:The Laurel Packinghouse\, 1304 Ellis Street\, Kelowna\, BC\, V1Y 1Z8\, Canada
ATTACH;FMTTYPE=image/png:https://www.investkelowna.com/wp-content/uploads/2025/01/AI-Summit-series.png
END:VEVENT
END:VCALENDAR