BEGIN:VCALENDAR
VERSION:2.0
PRODID:-//Central Okanagan Economic Development Commission - ECPv6.15.18//NONSGML v1.0//EN
CALSCALE:GREGORIAN
METHOD:PUBLISH
X-WR-CALNAME:Central Okanagan Economic Development Commission
X-ORIGINAL-URL:https://www.investkelowna.com
X-WR-CALDESC:Events for Central Okanagan Economic Development Commission
REFRESH-INTERVAL;VALUE=DURATION:PT1H
X-Robots-Tag:noindex
X-PUBLISHED-TTL:PT1H
BEGIN:VTIMEZONE
TZID:America/Vancouver
BEGIN:DAYLIGHT
TZOFFSETFROM:-0800
TZOFFSETTO:-0700
TZNAME:PDT
DTSTART:20240310T100000
END:DAYLIGHT
BEGIN:STANDARD
TZOFFSETFROM:-0700
TZOFFSETTO:-0800
TZNAME:PST
DTSTART:20241103T090000
END:STANDARD
BEGIN:DAYLIGHT
TZOFFSETFROM:-0800
TZOFFSETTO:-0700
TZNAME:PDT
DTSTART:20250309T100000
END:DAYLIGHT
BEGIN:STANDARD
TZOFFSETFROM:-0700
TZOFFSETTO:-0800
TZNAME:PST
DTSTART:20251102T090000
END:STANDARD
BEGIN:DAYLIGHT
TZOFFSETFROM:-0800
TZOFFSETTO:-0700
TZNAME:PDT
DTSTART:20260308T100000
END:DAYLIGHT
BEGIN:STANDARD
TZOFFSETFROM:-0700
TZOFFSETTO:-0800
TZNAME:PST
DTSTART:20261101T090000
END:STANDARD
END:VTIMEZONE
BEGIN:VEVENT
DTSTART;TZID=America/Vancouver:20250222T090000
DTEND;TZID=America/Vancouver:20250222T163000
DTSTAMP:20260424T182721
CREATED:20250210T210015Z
LAST-MODIFIED:20250210T210015Z
UID:7841-1740214800-1740241800@www.investkelowna.com
SUMMARY:Business Bootcamp
DESCRIPTION:Get ready to ignite your potential at KWIB’s Second Annual Business Bootcamp! \nThis dynamic event is designed to empower and inspire. It offers 12 powerful sessions covering business strategy\, personal growth\, marketing\, and finance. Whether you want to elevate your skills\, expand your network\, or gain actionable insights\, this Bootcamp has it all. Join them for a day of learning\, connection and transformation—you won’t want to miss it! \nRegister here!
URL:https://www.investkelowna.com/event/business-bootcamp/
LOCATION:UBCO | Okanagan Campus
ATTACH;FMTTYPE=image/jpeg:https://www.investkelowna.com/wp-content/uploads/2025/02/2025-Business-Bootcamp-Time-Table_.jpg
END:VEVENT
BEGIN:VEVENT
DTSTART;TZID=America/Vancouver:20250222T100000
DTEND;TZID=America/Vancouver:20250222T113000
DTSTAMP:20260424T182721
CREATED:20250128T195058Z
LAST-MODIFIED:20250128T195058Z
UID:7568-1740218400-1740223800@www.investkelowna.com
SUMMARY:Learn N Go February
DESCRIPTION:
URL:https://www.investkelowna.com/event/learn-n-go-february/
LOCATION:Peachland Chamber\, 5878 Beach Ave\, Peachland\, BC\, V0H 1X7\, Canada
ATTACH;FMTTYPE=image/png:https://www.investkelowna.com/wp-content/uploads/2025/01/Learn-and-Go-Peachland-chamber.png
END:VEVENT
END:VCALENDAR