BEGIN:VCALENDAR
VERSION:2.0
PRODID:-//Central Okanagan Economic Development Commission - ECPv6.15.18//NONSGML v1.0//EN
CALSCALE:GREGORIAN
METHOD:PUBLISH
X-ORIGINAL-URL:https://www.investkelowna.com
X-WR-CALDESC:Events for Central Okanagan Economic Development Commission
REFRESH-INTERVAL;VALUE=DURATION:PT1H
X-Robots-Tag:noindex
X-PUBLISHED-TTL:PT1H
BEGIN:VTIMEZONE
TZID:America/Vancouver
BEGIN:DAYLIGHT
TZOFFSETFROM:-0800
TZOFFSETTO:-0700
TZNAME:PDT
DTSTART:20240310T100000
END:DAYLIGHT
BEGIN:STANDARD
TZOFFSETFROM:-0700
TZOFFSETTO:-0800
TZNAME:PST
DTSTART:20241103T090000
END:STANDARD
BEGIN:DAYLIGHT
TZOFFSETFROM:-0800
TZOFFSETTO:-0700
TZNAME:PDT
DTSTART:20250309T100000
END:DAYLIGHT
BEGIN:STANDARD
TZOFFSETFROM:-0700
TZOFFSETTO:-0800
TZNAME:PST
DTSTART:20251102T090000
END:STANDARD
BEGIN:DAYLIGHT
TZOFFSETFROM:-0800
TZOFFSETTO:-0700
TZNAME:PDT
DTSTART:20260308T100000
END:DAYLIGHT
BEGIN:STANDARD
TZOFFSETFROM:-0700
TZOFFSETTO:-0800
TZNAME:PST
DTSTART:20261101T090000
END:STANDARD
END:VTIMEZONE
BEGIN:VEVENT
DTSTART;TZID=America/Vancouver:20250227T080000
DTEND;TZID=America/Vancouver:20250227T093000
DTSTAMP:20260424T164637
CREATED:20250210T212521Z
LAST-MODIFIED:20250210T212521Z
UID:7847-1740643200-1740648600@www.investkelowna.com
SUMMARY:Young Professional Coffee Social
DESCRIPTION:Whether you are eager to start your day with a dose of caffeine\, hungry for some delectable snacks\, or looking to grow your social and professional circles\, let’s brew up some new connections! \nIn February\, we are returning to Kelowna’s most unique coffee shop – Pulp Fiction! \nMingle with new friends and fellow young professionals in a casual and friendly setting – this isn’t your traditional networking event. \nRegister on Eventbrite! \nHere’s What You Need to Know: \nNo Entrance Fee: Joining us is free! You set your budget – beverages and snacks can be purchased from Pulp Fiction Coffee House\, allowing you to enjoy their delicious offerings while you network. \nCome When You Can: Drop by anytime between 8:00 – 9:30 am. Stay for a quick chat or linger longer over your coffee — the pace is yours to set. \nWho’s Welcome? \n\nJust moved to town? Perfect\, meet your first friends here!\nGrew up in the Okanagan? Be the guide for newcomers.\nNew to the business world or a seasoned professional? Share stories and insights.\nWhether you’re under forty\, over forty (and yes\, we don’t check IDs)\, or anywhere in-between\, you’re welcome.\nNeed that morning caffeine fix to kickstart your day? We get it\, and we’ve got you covered.\nLooking to make new friends\, find your community footing again\, or broaden your professional network? You’re in the right place.\nFeeling peckish? Pulp Fiction Coffee House has treats that are hard to resist.\n\nThe Okanagan Young Professionals (OYP) Collective is a program of the COEDC\, and a hub of resources to help attract and retain talent in the region. There’s no membership and we don’t sell anything (other than why it’s so great to live here). All are welcome to come out and join to connect with other awesome young professionals in our community!
URL:https://www.investkelowna.com/event/young-professional-coffee-social-14/
LOCATION:Pulp Fiction Coffee House
ATTACH;FMTTYPE=image/png:https://www.investkelowna.com/wp-content/uploads/2025/02/Feb-2025-Coffee-Social-eventbrite.png
END:VEVENT
BEGIN:VEVENT
DTSTART;TZID=America/Vancouver:20250227T170000
DTEND;TZID=America/Vancouver:20250227T190000
DTSTAMP:20260424T164637
CREATED:20250123T215629Z
LAST-MODIFIED:20250123T215629Z
UID:7549-1740675600-1740682800@www.investkelowna.com
SUMMARY:Commerce ConneX - University of British Columbia - Kelowna Campus
DESCRIPTION:Cap off the day with the UBCO Commerce ConneX networking event from 5:00 pm – 7:00 pm\, where you’ll discover the potential of local businesses collaborating with UBC Okanagan to advance innovation\, workforce development\, and entrepreneurial success. \nLearn more and register on their website.
URL:https://www.investkelowna.com/event/commerce-connex-university-of-british-columbia-kelowna-campus/
LOCATION:UBC Okanagan Campus
ATTACH;FMTTYPE=image/png:https://www.investkelowna.com/wp-content/uploads/2025/01/Commerce-Connex.png
END:VEVENT
END:VCALENDAR