BEGIN:VCALENDAR
VERSION:2.0
PRODID:-//Central Okanagan Economic Development Commission - ECPv6.15.18//NONSGML v1.0//EN
CALSCALE:GREGORIAN
METHOD:PUBLISH
X-WR-CALNAME:Central Okanagan Economic Development Commission
X-ORIGINAL-URL:https://www.investkelowna.com
X-WR-CALDESC:Events for Central Okanagan Economic Development Commission
REFRESH-INTERVAL;VALUE=DURATION:PT1H
X-Robots-Tag:noindex
X-PUBLISHED-TTL:PT1H
BEGIN:VTIMEZONE
TZID:America/Vancouver
BEGIN:DAYLIGHT
TZOFFSETFROM:-0800
TZOFFSETTO:-0700
TZNAME:PDT
DTSTART:20240310T100000
END:DAYLIGHT
BEGIN:STANDARD
TZOFFSETFROM:-0700
TZOFFSETTO:-0800
TZNAME:PST
DTSTART:20241103T090000
END:STANDARD
BEGIN:DAYLIGHT
TZOFFSETFROM:-0800
TZOFFSETTO:-0700
TZNAME:PDT
DTSTART:20250309T100000
END:DAYLIGHT
BEGIN:STANDARD
TZOFFSETFROM:-0700
TZOFFSETTO:-0800
TZNAME:PST
DTSTART:20251102T090000
END:STANDARD
BEGIN:DAYLIGHT
TZOFFSETFROM:-0800
TZOFFSETTO:-0700
TZNAME:PDT
DTSTART:20260308T100000
END:DAYLIGHT
BEGIN:STANDARD
TZOFFSETFROM:-0700
TZOFFSETTO:-0800
TZNAME:PST
DTSTART:20261101T090000
END:STANDARD
END:VTIMEZONE
BEGIN:VEVENT
DTSTART;TZID=America/Vancouver:20250306T170000
DTEND;TZID=America/Vancouver:20250412T190000
DTSTAMP:20260424T151503
CREATED:20250128T195303Z
LAST-MODIFIED:20250128T195303Z
UID:7571-1741280400-1744484400@www.investkelowna.com
SUMMARY:Business Made Social March 2025
DESCRIPTION:
URL:https://www.investkelowna.com/event/business-made-social-march-2025/
LOCATION:Peachland Chamber\, 5878 Beach Ave\, Peachland\, BC\, V0H 1X7\, Canada
ATTACH;FMTTYPE=image/png:https://www.investkelowna.com/wp-content/uploads/2025/01/Business-made-social-march.png
END:VEVENT
BEGIN:VEVENT
DTSTART;TZID=America/Vancouver:20250312T110000
DTEND;TZID=America/Vancouver:20250312T120000
DTSTAMP:20260424T151503
CREATED:20250225T215158Z
LAST-MODIFIED:20250225T215158Z
UID:7931-1741777200-1741780800@www.investkelowna.com
SUMMARY:Webinar: The Ready Rating Program
DESCRIPTION:Join BCEDA and the Canadian Red Cross to learn about the Ready Rating™ Program\, a free service for organizations to make sure they are safe and ready. \nReady Rating™ helps businesses\, schools and organizations become better prepared for disasters and other emergencies. All in one place\, Ready Rating Members have access to one-of-a-kind tools\, resources and information for evaluating and improving their ability to withstand disaster\, maintain operations\, and protect lives and property. Whether organizations are taking their first steps or have a fully-functioning emergency management program\, the Ready Rating program can help them achieve a higher level of preparedness. \nRegister for this free webinar to help your community’s businesses become better prepared. \nRegister now!
URL:https://www.investkelowna.com/event/webinar-the-ready-rating-program/
LOCATION:Online
ATTACH;FMTTYPE=image/png:https://www.investkelowna.com/wp-content/uploads/2025/02/Ready-Rating-webinar.png
END:VEVENT
BEGIN:VEVENT
DTSTART;TZID=America/Vancouver:20250312T173000
DTEND;TZID=America/Vancouver:20250312T190000
DTSTAMP:20260424T151503
CREATED:20250310T181114Z
LAST-MODIFIED:20250310T181130Z
UID:8069-1741800600-1741806000@www.investkelowna.com
SUMMARY:Business After Hours - Lake Country Chamber of Commerce
DESCRIPTION:
URL:https://www.investkelowna.com/event/business-after-hours/
LOCATION:Interior Savings Credit Union\, 185 Rutland Rd S\, Kelowna\, British Columbia\, V1X 2Z3
CATEGORIES:Business Networking
ATTACH;FMTTYPE=image/png:https://www.investkelowna.com/wp-content/uploads/2025/03/Business-After-Hours.png.png
END:VEVENT
END:VCALENDAR