BEGIN:VCALENDAR
VERSION:2.0
PRODID:-//Central Okanagan Economic Development Commission - ECPv6.15.18//NONSGML v1.0//EN
CALSCALE:GREGORIAN
METHOD:PUBLISH
X-WR-CALNAME:Central Okanagan Economic Development Commission
X-ORIGINAL-URL:https://www.investkelowna.com
X-WR-CALDESC:Events for Central Okanagan Economic Development Commission
REFRESH-INTERVAL;VALUE=DURATION:PT1H
X-Robots-Tag:noindex
X-PUBLISHED-TTL:PT1H
BEGIN:VTIMEZONE
TZID:America/Vancouver
BEGIN:DAYLIGHT
TZOFFSETFROM:-0800
TZOFFSETTO:-0700
TZNAME:PDT
DTSTART:20240310T100000
END:DAYLIGHT
BEGIN:STANDARD
TZOFFSETFROM:-0700
TZOFFSETTO:-0800
TZNAME:PST
DTSTART:20241103T090000
END:STANDARD
BEGIN:DAYLIGHT
TZOFFSETFROM:-0800
TZOFFSETTO:-0700
TZNAME:PDT
DTSTART:20250309T100000
END:DAYLIGHT
BEGIN:STANDARD
TZOFFSETFROM:-0700
TZOFFSETTO:-0800
TZNAME:PST
DTSTART:20251102T090000
END:STANDARD
BEGIN:DAYLIGHT
TZOFFSETFROM:-0800
TZOFFSETTO:-0700
TZNAME:PDT
DTSTART:20260308T100000
END:DAYLIGHT
BEGIN:STANDARD
TZOFFSETFROM:-0700
TZOFFSETTO:-0800
TZNAME:PST
DTSTART:20261101T090000
END:STANDARD
END:VTIMEZONE
BEGIN:VEVENT
DTSTART;TZID=America/Vancouver:20250306T170000
DTEND;TZID=America/Vancouver:20250412T190000
DTSTAMP:20260424T164755
CREATED:20250128T195303Z
LAST-MODIFIED:20250128T195303Z
UID:7571-1741280400-1744484400@www.investkelowna.com
SUMMARY:Business Made Social March 2025
DESCRIPTION:
URL:https://www.investkelowna.com/event/business-made-social-march-2025/
LOCATION:Peachland Chamber\, 5878 Beach Ave\, Peachland\, BC\, V0H 1X7\, Canada
ATTACH;FMTTYPE=image/png:https://www.investkelowna.com/wp-content/uploads/2025/01/Business-made-social-march.png
END:VEVENT
BEGIN:VEVENT
DTSTART;TZID=America/Vancouver:20250320T110000
DTEND;TZID=America/Vancouver:20250320T120000
DTSTAMP:20260424T164755
CREATED:20250312T222249Z
LAST-MODIFIED:20250312T222249Z
UID:8101-1742468400-1742472000@www.investkelowna.com
SUMMARY:Raising Capital – Webinar Series
DESCRIPTION:Starting in February\, Garibaldi Capital Advisors will hold a six-part webinar series led by Geoffrey Hansen\, a seasoned expert in capital raising. As a partner at Garibaldi Capital Advisors for over seven years\, Geoffrey brings valuable insights and practical strategies\, that is backed by over 30 years of experience in the tech industry. \nAfter attending this webinar series\, you’ll gain the knowledge to answer key questions such as how to determine the right amount of capital to raise\, the most effective ways to connect with investors\, where to find investors interested in your venture\, and how to maximize your interactions with investors to drive long-term success. \nLearn more and register on their website. 
URL:https://www.investkelowna.com/event/raising-capital-webinar-series/
LOCATION:Webinar
ATTACH;FMTTYPE=image/png:https://www.investkelowna.com/wp-content/uploads/2025/03/Raising-capital-picture.png
END:VEVENT
END:VCALENDAR