BEGIN:VCALENDAR
VERSION:2.0
PRODID:-//Central Okanagan Economic Development Commission - ECPv6.15.18//NONSGML v1.0//EN
CALSCALE:GREGORIAN
METHOD:PUBLISH
X-WR-CALNAME:Central Okanagan Economic Development Commission
X-ORIGINAL-URL:https://www.investkelowna.com
X-WR-CALDESC:Events for Central Okanagan Economic Development Commission
REFRESH-INTERVAL;VALUE=DURATION:PT1H
X-Robots-Tag:noindex
X-PUBLISHED-TTL:PT1H
BEGIN:VTIMEZONE
TZID:America/Vancouver
BEGIN:DAYLIGHT
TZOFFSETFROM:-0800
TZOFFSETTO:-0700
TZNAME:PDT
DTSTART:20240310T100000
END:DAYLIGHT
BEGIN:STANDARD
TZOFFSETFROM:-0700
TZOFFSETTO:-0800
TZNAME:PST
DTSTART:20241103T090000
END:STANDARD
BEGIN:DAYLIGHT
TZOFFSETFROM:-0800
TZOFFSETTO:-0700
TZNAME:PDT
DTSTART:20250309T100000
END:DAYLIGHT
BEGIN:STANDARD
TZOFFSETFROM:-0700
TZOFFSETTO:-0800
TZNAME:PST
DTSTART:20251102T090000
END:STANDARD
BEGIN:DAYLIGHT
TZOFFSETFROM:-0800
TZOFFSETTO:-0700
TZNAME:PDT
DTSTART:20260308T100000
END:DAYLIGHT
BEGIN:STANDARD
TZOFFSETFROM:-0700
TZOFFSETTO:-0800
TZNAME:PST
DTSTART:20261101T090000
END:STANDARD
END:VTIMEZONE
BEGIN:VEVENT
DTSTART;TZID=America/Vancouver:20250422T163000
DTEND;TZID=America/Vancouver:20250422T183000
DTSTAMP:20260424T133228
CREATED:20250410T183655Z
LAST-MODIFIED:20250410T183655Z
UID:8314-1745339400-1745346600@www.investkelowna.com
SUMMARY:Young Professional Happy Hour Social
DESCRIPTION:The OYP Collective is excited to collaborate with JCI Kelowna to bring you a Happy Hour Social. Connect with new friends and other young professionals in a casual\, friendly environment at this social at Red Bird Brewing! \nIf you’ve been to our coffee socials\, it’s kind of like them… but at the end of your workday. \nThere is no cost to attend\, but beverages and food will be available for purchase through Red Bird Brewing. \nWe do have a maximum capacity\, so register ASAP to save your seat! Then drop in anytime from 4:30 pm – 6:30 pm to meet new friends! \nNot sure if you should come to a Happy Hour Social? Join us if you are: \n\nNew to town\nBorn and raised in the Okanagan\nA fresh face to business\nUnder forty\nOver forty (we love everyone!)\nSomeone who wants to unwind at the end of the day\nLooking to make new friends\, reconnect in the community\, or expand your network\n\nThe Okanagan Young Professionals (OYP) Collective is a program of the COEDC\, and a hub of resources to help attract and retain talent in the region. There’s no membership\, and we don’t sell anything (other than why it’s so great to live here). All are welcome to come out and join to connect with other awesome young professionals in our community! \nJCI Kelowna\, affiliated with Junior Chamber International (JCI)\, is one of Kelowna’s premier community service groups\, offering opportunities for young people to grow personally and professionally while contributing positively to their community.
URL:https://www.investkelowna.com/event/young-professional-happy-hour-social-2/
LOCATION:Red Bird Brewing
ATTACH;FMTTYPE=image/png:https://www.investkelowna.com/wp-content/uploads/2025/04/Happy-Hour-Social-Poster.png
END:VEVENT
END:VCALENDAR