BEGIN:VCALENDAR
VERSION:2.0
PRODID:-//Central Okanagan Economic Development Commission - ECPv6.15.18//NONSGML v1.0//EN
CALSCALE:GREGORIAN
METHOD:PUBLISH
X-WR-CALNAME:Central Okanagan Economic Development Commission
X-ORIGINAL-URL:https://www.investkelowna.com
X-WR-CALDESC:Events for Central Okanagan Economic Development Commission
REFRESH-INTERVAL;VALUE=DURATION:PT1H
X-Robots-Tag:noindex
X-PUBLISHED-TTL:PT1H
BEGIN:VTIMEZONE
TZID:America/Vancouver
BEGIN:DAYLIGHT
TZOFFSETFROM:-0800
TZOFFSETTO:-0700
TZNAME:PDT
DTSTART:20240310T100000
END:DAYLIGHT
BEGIN:STANDARD
TZOFFSETFROM:-0700
TZOFFSETTO:-0800
TZNAME:PST
DTSTART:20241103T090000
END:STANDARD
BEGIN:DAYLIGHT
TZOFFSETFROM:-0800
TZOFFSETTO:-0700
TZNAME:PDT
DTSTART:20250309T100000
END:DAYLIGHT
BEGIN:STANDARD
TZOFFSETFROM:-0700
TZOFFSETTO:-0800
TZNAME:PST
DTSTART:20251102T090000
END:STANDARD
BEGIN:DAYLIGHT
TZOFFSETFROM:-0800
TZOFFSETTO:-0700
TZNAME:PDT
DTSTART:20260308T100000
END:DAYLIGHT
BEGIN:STANDARD
TZOFFSETFROM:-0700
TZOFFSETTO:-0800
TZNAME:PST
DTSTART:20261101T090000
END:STANDARD
END:VTIMEZONE
BEGIN:VEVENT
DTSTART;TZID=America/Vancouver:20250428T100000
DTEND;TZID=America/Vancouver:20250428T120000
DTSTAMP:20260424T115627
CREATED:20250416T172131Z
LAST-MODIFIED:20250416T172131Z
UID:8342-1745834400-1745841600@www.investkelowna.com
SUMMARY:Financial Systems and Banking Workshop
DESCRIPTION:Whether you are a Permanent Resident\, CUAET holder\, work permit holder\, international student\, or protected person\, join KCR for an informative workshop on Canada’s financial system. Discover how to open bank accounts\, manage your credit\, and use financial tools like debit/credit cards. Get valuable tips on budgeting\, saving\, and confidently navigating Canada’s banking system.
URL:https://www.investkelowna.com/event/financial-systems-and-banking-workshop/
LOCATION:KCR Bertram Space\, 1609 Bertram Street\, Kelowna\, British Columbia\, Canada
ATTACH;FMTTYPE=image/png:https://www.investkelowna.com/wp-content/uploads/2025/04/KCR-Job-Club.png
END:VEVENT
BEGIN:VEVENT
DTSTART;TZID=America/Vancouver:20250428T120000
DTEND;TZID=America/Vancouver:20250428T130000
DTSTAMP:20260424T115627
CREATED:20250416T182058Z
LAST-MODIFIED:20250416T182058Z
UID:8358-1745841600-1745845200@www.investkelowna.com
SUMMARY:Runway to Web Summit Vancouver Lunch & Learn: Okanagan Edition
DESCRIPTION:​The countdown is on to the inaugural Web Summit Vancouver event happening May 27-30. \n​Web Summit’s very own Casey Lau will be at the Kelowna Innovation Centre on Monday\, April 28th\, for a special Runway luncheon. He will chat about the biggest tech startup conference in North America and how YOU can take advantage of it. He will also raffle off two tickets to the event. \n​Priority seating will be given to Web Summit Vancouver ticket holders\, but the entire Okanagan ecosystem is invited attend this free info. Please register in advance as space is limited. \n​Agenda:\n12:00-12:15 Settle in & Grab a Slice\n12:15-12:45 Presentation & AMA with Casey\n12:45-1:00 Lucky Draw + Networking \n​Check out the Web Summit Vancouver website for the latest on the conference schedule\, speakers\, and activities happening.
URL:https://www.investkelowna.com/event/runway-to-web-summit-vancouver-lunch-learn-okanagan-edition/
LOCATION:Accelerate Okanagan\, 201-460 Doyle Ave\,\, Kelowna\, BC\, V1Y 0C1\, Canada
ATTACH;FMTTYPE=image/png:https://www.investkelowna.com/wp-content/uploads/2025/04/Web-Summit-Runway.png
END:VEVENT
BEGIN:VEVENT
DTSTART;TZID=America/Vancouver:20250428T133000
DTEND;TZID=America/Vancouver:20250428T150000
DTSTAMP:20260424T115627
CREATED:20250416T171227Z
LAST-MODIFIED:20250416T171227Z
UID:8338-1745847000-1745852400@www.investkelowna.com
SUMMARY:Job Club
DESCRIPTION:KCR’s Job Club is a networking activity for newcomers who are seeking employment\, brushing up on their job search skills\, researching on local job market trends\, and needing job support from KCR’s best employment specialists. \n  \n 
URL:https://www.investkelowna.com/event/job-club/
LOCATION:KCR Bertram Space\, 1609 Bertram Street\, Kelowna\, British Columbia\, Canada
ATTACH;FMTTYPE=image/png:https://www.investkelowna.com/wp-content/uploads/2025/04/KCR-Job-Club.png
END:VEVENT
END:VCALENDAR