BEGIN:VCALENDAR
VERSION:2.0
PRODID:-//Central Okanagan Economic Development Commission - ECPv6.15.18//NONSGML v1.0//EN
CALSCALE:GREGORIAN
METHOD:PUBLISH
X-ORIGINAL-URL:https://www.investkelowna.com
X-WR-CALDESC:Events for Central Okanagan Economic Development Commission
REFRESH-INTERVAL;VALUE=DURATION:PT1H
X-Robots-Tag:noindex
X-PUBLISHED-TTL:PT1H
BEGIN:VTIMEZONE
TZID:America/Vancouver
BEGIN:DAYLIGHT
TZOFFSETFROM:-0800
TZOFFSETTO:-0700
TZNAME:PDT
DTSTART:20240310T100000
END:DAYLIGHT
BEGIN:STANDARD
TZOFFSETFROM:-0700
TZOFFSETTO:-0800
TZNAME:PST
DTSTART:20241103T090000
END:STANDARD
BEGIN:DAYLIGHT
TZOFFSETFROM:-0800
TZOFFSETTO:-0700
TZNAME:PDT
DTSTART:20250309T100000
END:DAYLIGHT
BEGIN:STANDARD
TZOFFSETFROM:-0700
TZOFFSETTO:-0800
TZNAME:PST
DTSTART:20251102T090000
END:STANDARD
BEGIN:DAYLIGHT
TZOFFSETFROM:-0800
TZOFFSETTO:-0700
TZNAME:PDT
DTSTART:20260308T100000
END:DAYLIGHT
BEGIN:STANDARD
TZOFFSETFROM:-0700
TZOFFSETTO:-0800
TZNAME:PST
DTSTART:20261101T090000
END:STANDARD
END:VTIMEZONE
BEGIN:VEVENT
DTSTART;TZID=America/Vancouver:20250430T100000
DTEND;TZID=America/Vancouver:20250430T113000
DTSTAMP:20260424T115637
CREATED:20250424T174433Z
LAST-MODIFIED:20250424T174433Z
UID:8378-1746007200-1746012600@www.investkelowna.com
SUMMARY:Hydrogen 101: BC's Emerging Opportunities
DESCRIPTION:To scale hydrogen in BC\, we have to match supply to demand. Regional hydrogen hubs\, as outlined in the BC Hydrogen Strategy\, can overcome this challenge by co-locating hydrogen production and end-use applications while accelerating the growth of the local economy. \nFirst Nations\, municipalities\, community organizations\, and interested residents of BC’s Kootenay\, Thompson-Okanagan and Vancouver Island regions are invited to Foresight’s Hydrogen 101  webinar. \nThe webinar is part of a series across the province that seeks to grow awareness of hydrogen and its role in BC’s low-carbon energy future. It will discuss the future of hydrogen in BC\, including transportation considerations and potential sources of supply and demand. \nThe session will also include interactive poll questions and ongoing Q&A. \nRegister to join\, and please don’t hesitate to share the event with other members of your community. \nWe gratefully acknowledge the financial support of the B.C. Ministry of Energy and Climate Solutions to advance this project.
URL:https://www.investkelowna.com/event/hydrogen-101-bcs-emerging-opportunities/
LOCATION:Zoom
ATTACH;FMTTYPE=image/png:https://www.investkelowna.com/wp-content/uploads/2025/04/webinar.png
END:VEVENT
END:VCALENDAR