BEGIN:VCALENDAR
VERSION:2.0
PRODID:-//Central Okanagan Economic Development Commission - ECPv6.15.18//NONSGML v1.0//EN
CALSCALE:GREGORIAN
METHOD:PUBLISH
X-ORIGINAL-URL:https://www.investkelowna.com
X-WR-CALDESC:Events for Central Okanagan Economic Development Commission
REFRESH-INTERVAL;VALUE=DURATION:PT1H
X-Robots-Tag:noindex
X-PUBLISHED-TTL:PT1H
BEGIN:VTIMEZONE
TZID:America/Vancouver
BEGIN:DAYLIGHT
TZOFFSETFROM:-0800
TZOFFSETTO:-0700
TZNAME:PDT
DTSTART:20240310T100000
END:DAYLIGHT
BEGIN:STANDARD
TZOFFSETFROM:-0700
TZOFFSETTO:-0800
TZNAME:PST
DTSTART:20241103T090000
END:STANDARD
BEGIN:DAYLIGHT
TZOFFSETFROM:-0800
TZOFFSETTO:-0700
TZNAME:PDT
DTSTART:20250309T100000
END:DAYLIGHT
BEGIN:STANDARD
TZOFFSETFROM:-0700
TZOFFSETTO:-0800
TZNAME:PST
DTSTART:20251102T090000
END:STANDARD
BEGIN:DAYLIGHT
TZOFFSETFROM:-0800
TZOFFSETTO:-0700
TZNAME:PDT
DTSTART:20260308T100000
END:DAYLIGHT
BEGIN:STANDARD
TZOFFSETFROM:-0700
TZOFFSETTO:-0800
TZNAME:PST
DTSTART:20261101T090000
END:STANDARD
END:VTIMEZONE
BEGIN:VEVENT
DTSTART;TZID=America/Vancouver:20250522T083000
DTEND;TZID=America/Vancouver:20250522T180000
DTSTAMP:20260424T102803
CREATED:20250422T220313Z
LAST-MODIFIED:20250422T220313Z
UID:8371-1747902600-1747936800@www.investkelowna.com
SUMMARY:Connect Money Impact 2025 - Kelowna
DESCRIPTION:Social entrepreneurs\, impact investors\, and ecosystem builders are invited to join us for a day of inspiration\, education\, and collaboration to explore the intersection of profit and impact\, community wealth building\, and impact investing. \nIn this one-day local summit\, you will learn with and connect with a diverse group of change-makers working to solve some of society’s most pressing issues. You can move past just a handshake or hello to a real conversation where you will spark or deepen meaningful relationships with folks actively working on complex social and environmental change. \nThe day offers sessions within different learning streams. Participants are encouraged to select the categories and streams they identified with most to participate in the most valuable conversations. \nStreams and sessions will feature the following content: \nSocial Entrepreneurs \n\nSocial enterprises as sustainable revenue streams\nCommunity wealth building through real estate\nCreating predictable income for social enterprises\nSocial procurement for impact\nPitching social enterprises to investors\n\nImpact Investors \n\nFunding social enterprises: grants\, loans\, and equity\nBlended capital for social and financial returns\nInvesting in sustainability and resource transitions\nIndigenous-led investing for long-term impact\nDecolonizing investing and grantmaking\n\nEcosystem builders \n\nPower-sharing and collaboration for change\nChoosing the right platforms for engagement\nMapping innovative funding ideas\nStrengthening local networks for impact\nBuilding stability in uncertain times\n\nPlease note that these are still forming and might change slightly! \nVisit our website to find out more \nEarly-bird tickets are available until March 31st at 11:59pm PST. \nFor those who may have questions about ticket pricing\, please feel free to reach out to us at melissa@purppl.com. We’re here to help and explore options to make our event more accessible for you.
URL:https://www.investkelowna.com/event/connect-money-impact-2025-kelowna/
LOCATION:Metro Hub
ATTACH;FMTTYPE=image/png:https://www.investkelowna.com/wp-content/uploads/2025/04/Event-Poster.png
END:VEVENT
BEGIN:VEVENT
DTSTART;TZID=America/Vancouver:20250522T180000
DTEND;TZID=America/Vancouver:20250522T200000
DTSTAMP:20260424T102803
CREATED:20250430T225503Z
LAST-MODIFIED:20250430T230031Z
UID:8414-1747936800-1747944000@www.investkelowna.com
SUMMARY:JCI New Members Night at Mercedes-Benz!
DESCRIPTION:Are you a young professional looking to grow your career\, expand your network\, and make a positive impact in your community? Join JCI Kelowna for an exciting evening of connection\, community\, and opportunity at the Junior Chambers International (JCI) New Members Night\, hosted at the stunning Mercedes-Benz Showroom on Thursday\, May 22nd\, from 6:00 PM to 8:00 PM. This is the perfect chance to meet like-minded individuals\, learn about JCI’s mission\, and discover how you can get involved in a community that’s committed to developing leadership\, personal growth\, and social impact. Whether you’re looking to advance your professional skills\, make new connections\, or get inspired by community-driven initiatives\, JCI is the place to be. \nRegister on Eventbrite.
URL:https://www.investkelowna.com/event/jci-new-members-night-at-mercedes-benz/
LOCATION:Mercedes-Benz Kelowna
ATTACH;FMTTYPE=image/jpeg:https://www.investkelowna.com/wp-content/uploads/2025/04/JCI-New-members-night-scaled.jpeg
END:VEVENT
END:VCALENDAR