BEGIN:VCALENDAR
VERSION:2.0
PRODID:-//Central Okanagan Economic Development Commission - ECPv6.15.18//NONSGML v1.0//EN
CALSCALE:GREGORIAN
METHOD:PUBLISH
X-WR-CALNAME:Central Okanagan Economic Development Commission
X-ORIGINAL-URL:https://www.investkelowna.com
X-WR-CALDESC:Events for Central Okanagan Economic Development Commission
REFRESH-INTERVAL;VALUE=DURATION:PT1H
X-Robots-Tag:noindex
X-PUBLISHED-TTL:PT1H
BEGIN:VTIMEZONE
TZID:America/Vancouver
BEGIN:DAYLIGHT
TZOFFSETFROM:-0800
TZOFFSETTO:-0700
TZNAME:PDT
DTSTART:20240310T100000
END:DAYLIGHT
BEGIN:STANDARD
TZOFFSETFROM:-0700
TZOFFSETTO:-0800
TZNAME:PST
DTSTART:20241103T090000
END:STANDARD
BEGIN:DAYLIGHT
TZOFFSETFROM:-0800
TZOFFSETTO:-0700
TZNAME:PDT
DTSTART:20250309T100000
END:DAYLIGHT
BEGIN:STANDARD
TZOFFSETFROM:-0700
TZOFFSETTO:-0800
TZNAME:PST
DTSTART:20251102T090000
END:STANDARD
BEGIN:DAYLIGHT
TZOFFSETFROM:-0800
TZOFFSETTO:-0700
TZNAME:PDT
DTSTART:20260308T100000
END:DAYLIGHT
BEGIN:STANDARD
TZOFFSETFROM:-0700
TZOFFSETTO:-0800
TZNAME:PST
DTSTART:20261101T090000
END:STANDARD
END:VTIMEZONE
BEGIN:VEVENT
DTSTART;TZID=America/Vancouver:20250527T120000
DTEND;TZID=America/Vancouver:20250527T130000
DTSTAMP:20260424T102743
CREATED:20250523T154252Z
LAST-MODIFIED:20250523T154252Z
UID:8520-1748347200-1748350800@www.investkelowna.com
SUMMARY:Free WeBC Business Loan Info Session
DESCRIPTION:Learn about the financing options available through WeBC! \nWeBC has a Business Loan Program\, and we are the BC Loan Fund Partner of the WEOC National Loan Program for women and non-binary entrepreneurs. \nIf you would like to access these programs to start\, expand or purchase a business you will need to participate in one of our free phone-in info sessions about the loan programs. \nDuring this session\, the facilitator will: \n\nReview our lending criteria for each program\nAnswer your questions\nAdvise you on how to apply\nProvide you with a resource package\n\nAn Advisor will work with you to determine if you are eligible for a loan. \nThese FREE phone-in sessions are held every Tuesday from 12pm to 1pm PT.
URL:https://www.investkelowna.com/event/free-webc-business-loan-info-session-6/
LOCATION:Online
ATTACH;FMTTYPE=image/png:https://www.investkelowna.com/wp-content/uploads/2025/05/WeBC-Free-webinar.png
END:VEVENT
END:VCALENDAR