BEGIN:VCALENDAR
VERSION:2.0
PRODID:-//Central Okanagan Economic Development Commission - ECPv6.15.18//NONSGML v1.0//EN
CALSCALE:GREGORIAN
METHOD:PUBLISH
X-ORIGINAL-URL:https://www.investkelowna.com
X-WR-CALDESC:Events for Central Okanagan Economic Development Commission
REFRESH-INTERVAL;VALUE=DURATION:PT1H
X-Robots-Tag:noindex
X-PUBLISHED-TTL:PT1H
BEGIN:VTIMEZONE
TZID:America/Vancouver
BEGIN:DAYLIGHT
TZOFFSETFROM:-0800
TZOFFSETTO:-0700
TZNAME:PDT
DTSTART:20240310T100000
END:DAYLIGHT
BEGIN:STANDARD
TZOFFSETFROM:-0700
TZOFFSETTO:-0800
TZNAME:PST
DTSTART:20241103T090000
END:STANDARD
BEGIN:DAYLIGHT
TZOFFSETFROM:-0800
TZOFFSETTO:-0700
TZNAME:PDT
DTSTART:20250309T100000
END:DAYLIGHT
BEGIN:STANDARD
TZOFFSETFROM:-0700
TZOFFSETTO:-0800
TZNAME:PST
DTSTART:20251102T090000
END:STANDARD
BEGIN:DAYLIGHT
TZOFFSETFROM:-0800
TZOFFSETTO:-0700
TZNAME:PDT
DTSTART:20260308T100000
END:DAYLIGHT
BEGIN:STANDARD
TZOFFSETFROM:-0700
TZOFFSETTO:-0800
TZNAME:PST
DTSTART:20261101T090000
END:STANDARD
END:VTIMEZONE
BEGIN:VEVENT
DTSTART;TZID=America/Vancouver:20250529T080000
DTEND;TZID=America/Vancouver:20250529T093000
DTSTAMP:20260424T084721
CREATED:20250514T172816Z
LAST-MODIFIED:20250514T172816Z
UID:8466-1748505600-1748511000@www.investkelowna.com
SUMMARY:Young Professional Coffee Social
DESCRIPTION:Are you ready to brew up some new connections? We are excited to collaborate with The Recovery Spa to host a coffee social on May 29th from 8:00 to 9:30 am for a morning of networking and socializing. \nHere’s What You Need to Know: \nNo Entrance Fee: Joining us is free! Coffee and snacks will be provided. Coffee is sponsored by Milk Shed Coffee House. \nCome When You Can: Drop by anytime between 8:00 – 9:30 a.m. Stay for a quick chat or linger longer over your coffee — the pace is yours to set. \nEvent Details: \n\nDate: May 29th\, 2025\nTime: Drop in anytime from 8:00 – 9 :30 a.m.\nLocation: The Recovery Spa – 2936 Pandosy Street\, Unit #3\, Kelowna\, BC\, V1Y 1V9\n\nRegister on Eventbrite! \nWho’s welcome? \n\nJust moved to town? Perfect\, meet your first friends here!\nGrew up in the Okanagan? Be the guide for newcomers.\nNew to the business world or a seasoned professional? Share stories and insights.\nWhether you’re under forty\, over forty (and yes\, we don’t check IDs)\, or anywhere in-between\, you’re welcome.\nNeed that morning caffeine fix to kickstart your day? We get it\, and we’ve got you covered.\nLooking to make new friends\, find your community footing again\, or broaden your professional network? You’re in the right place\nNo membership\, no sales pitches\, just genuine connections. We’re here to celebrate what makes living in the Okanagan great.\nThe OYP Collective\, part of the COEDC\, is your gateway to connecting with other dynamic young professionals in our community.\n\nTo learn more about The Recovery Spa\, visit www.therecoveryspa.ca \nTo learn more about Milk Shed Coffee House\, visit www.milkshedcoffeehouse.ca \nThe Okanagan Young Professionals (OYP) Collective is a program of the COEDC\, and a hub of resources to help attract and retain talent in the region. There’s no membership and we don’t sell anything (other than why it’s so great to live here). All are welcome to come out and join to connect with other awesome young professionals in our community!
URL:https://www.investkelowna.com/event/young-professional-coffee-social-15/
LOCATION:The Recovery Spa\, 2936 Pandosy Street\, Unit #3\,\, Kelowna\,\, BC\, V1Y 1V9\, Canada
ATTACH;FMTTYPE=image/png:https://www.investkelowna.com/wp-content/uploads/2025/05/May-2025-Coffee-Social-Poster.png
END:VEVENT
BEGIN:VEVENT
DTSTART;TZID=America/Vancouver:20250529T140000
DTEND;TZID=America/Vancouver:20250529T160000
DTSTAMP:20260424T084721
CREATED:20250416T173848Z
LAST-MODIFIED:20250416T173848Z
UID:8352-1748527200-1748534400@www.investkelowna.com
SUMMARY:Legal Rights & Responsibilities (Personal Safety) workshop
DESCRIPTION:Know Your Rights. Stay Informed. Feel Empowered.\nAre you curious about Canadian laws that affect your everyday life? Wondering how the documentation system works? Want to better understand your rights and responsibilities as a newcomer? Join KCR for this informative workshop featuring RCMP Constable Christopher Choy\, who will guide you through the essentials of Canadian law\, personal safety\, and the government system. Whether you attend online or in person\, this session is designed to empower you with practical knowledge to navigate life in Canada with confidence.
URL:https://www.investkelowna.com/event/legal-rights-responsibilities-personal-safety-workshop/
LOCATION:KCR Community Resources
ATTACH;FMTTYPE=image/png:https://www.investkelowna.com/wp-content/uploads/2025/04/KCR-May-networking-event.png
END:VEVENT
END:VCALENDAR