BEGIN:VCALENDAR
VERSION:2.0
PRODID:-//Central Okanagan Economic Development Commission - ECPv6.15.18//NONSGML v1.0//EN
CALSCALE:GREGORIAN
METHOD:PUBLISH
X-ORIGINAL-URL:https://www.investkelowna.com
X-WR-CALDESC:Events for Central Okanagan Economic Development Commission
REFRESH-INTERVAL;VALUE=DURATION:PT1H
X-Robots-Tag:noindex
X-PUBLISHED-TTL:PT1H
BEGIN:VTIMEZONE
TZID:America/Vancouver
BEGIN:DAYLIGHT
TZOFFSETFROM:-0800
TZOFFSETTO:-0700
TZNAME:PDT
DTSTART:20240310T100000
END:DAYLIGHT
BEGIN:STANDARD
TZOFFSETFROM:-0700
TZOFFSETTO:-0800
TZNAME:PST
DTSTART:20241103T090000
END:STANDARD
BEGIN:DAYLIGHT
TZOFFSETFROM:-0800
TZOFFSETTO:-0700
TZNAME:PDT
DTSTART:20250309T100000
END:DAYLIGHT
BEGIN:STANDARD
TZOFFSETFROM:-0700
TZOFFSETTO:-0800
TZNAME:PST
DTSTART:20251102T090000
END:STANDARD
BEGIN:DAYLIGHT
TZOFFSETFROM:-0800
TZOFFSETTO:-0700
TZNAME:PDT
DTSTART:20260308T100000
END:DAYLIGHT
BEGIN:STANDARD
TZOFFSETFROM:-0700
TZOFFSETTO:-0800
TZNAME:PST
DTSTART:20261101T090000
END:STANDARD
END:VTIMEZONE
BEGIN:VEVENT
DTSTART;TZID=America/Vancouver:20250612T073000
DTEND;TZID=America/Vancouver:20250612T190000
DTSTAMP:20260424T115711
CREATED:20250521T155020Z
LAST-MODIFIED:20250521T155020Z
UID:8507-1749713400-1749754800@www.investkelowna.com
SUMMARY:The Pink Skirt Project
DESCRIPTION:The Pink Skirt Project is an immersive gathering designed for ambitious women ready to elevate their impact. Here’s what you’ll experience: \nTransformation\nCandid conversations with accomplished entrepreneurs who openly share their challenges\, breakthroughs\, and proven strategies for success. \nConnection\nAn electric atmosphere where authentic relationships bloom\, stories transform\, and powerful collaborations begin. \nMagic\nInspiring keynotes\, expert panels\, and our signature Pink Skirt celebration\, where you’ll experience the undeniable power of women rising together! \n  \nLearn more and get your tickets in their website.
URL:https://www.investkelowna.com/event/the-pink-skirt-project/
LOCATION:Metro Hub
ATTACH;FMTTYPE=image/png:https://www.investkelowna.com/wp-content/uploads/2025/05/Pink-Shirt-Project.png
END:VEVENT
BEGIN:VEVENT
DTSTART;TZID=America/Vancouver:20250612T150000
DTEND;TZID=America/Vancouver:20250612T170000
DTSTAMP:20260424T115711
CREATED:20250530T175512Z
LAST-MODIFIED:20250530T175512Z
UID:8565-1749740400-1749747600@www.investkelowna.com
SUMMARY:Okanagan Business Women Social Meet
DESCRIPTION:Okanagan Business Women getting together to connect\, network and have fun. Casual get togethers with no commitment. \nRegister on Eventbrite.
URL:https://www.investkelowna.com/event/okanagan-business-women-social-meet-4/
LOCATION:Mission Creek Golf Club
ATTACH;FMTTYPE=image/png:https://www.investkelowna.com/wp-content/uploads/2025/05/Events-Calendar-.png
END:VEVENT
END:VCALENDAR