BEGIN:VCALENDAR
VERSION:2.0
PRODID:-//Central Okanagan Economic Development Commission - ECPv6.15.18//NONSGML v1.0//EN
CALSCALE:GREGORIAN
METHOD:PUBLISH
X-WR-CALNAME:Central Okanagan Economic Development Commission
X-ORIGINAL-URL:https://www.investkelowna.com
X-WR-CALDESC:Events for Central Okanagan Economic Development Commission
REFRESH-INTERVAL;VALUE=DURATION:PT1H
X-Robots-Tag:noindex
X-PUBLISHED-TTL:PT1H
BEGIN:VTIMEZONE
TZID:America/Vancouver
BEGIN:DAYLIGHT
TZOFFSETFROM:-0800
TZOFFSETTO:-0700
TZNAME:PDT
DTSTART:20240310T100000
END:DAYLIGHT
BEGIN:STANDARD
TZOFFSETFROM:-0700
TZOFFSETTO:-0800
TZNAME:PST
DTSTART:20241103T090000
END:STANDARD
BEGIN:DAYLIGHT
TZOFFSETFROM:-0800
TZOFFSETTO:-0700
TZNAME:PDT
DTSTART:20250309T100000
END:DAYLIGHT
BEGIN:STANDARD
TZOFFSETFROM:-0700
TZOFFSETTO:-0800
TZNAME:PST
DTSTART:20251102T090000
END:STANDARD
BEGIN:DAYLIGHT
TZOFFSETFROM:-0800
TZOFFSETTO:-0700
TZNAME:PDT
DTSTART:20260308T100000
END:DAYLIGHT
BEGIN:STANDARD
TZOFFSETFROM:-0700
TZOFFSETTO:-0800
TZNAME:PST
DTSTART:20261101T090000
END:STANDARD
END:VTIMEZONE
BEGIN:VEVENT
DTSTART;TZID=America/Vancouver:20250618T170000
DTEND;TZID=America/Vancouver:20250618T190000
DTSTAMP:20260424T102745
CREATED:20250613T184839Z
LAST-MODIFIED:20250613T184839Z
UID:8620-1750266000-1750273200@www.investkelowna.com
SUMMARY:Downtown After 5
DESCRIPTION:Kelowna’s best business casual mixer\, Downtown Kelowna After 5\, turns traditional networking into a chance to unwind and get to know your neighbours. These events routinely draw 250+ guests looking to socialize\, network\, share ideas\, and have a great time ‘After 5’. \nGet your tickets today!
URL:https://www.investkelowna.com/event/downtown-after-5-6/
LOCATION:Delta Hotels\, 1310 Water St\,\, Kelowna\, British Columbia\, V1Y 9P4\, Canada
ATTACH;FMTTYPE=image/jpeg:https://www.investkelowna.com/wp-content/uploads/2025/06/June-after-5.jpg
END:VEVENT
BEGIN:VEVENT
DTSTART;TZID=America/Vancouver:20250618T173000
DTEND;TZID=America/Vancouver:20250618T200000
DTSTAMP:20260424T102745
CREATED:20250530T174934Z
LAST-MODIFIED:20250530T174934Z
UID:8560-1750267800-1750276800@www.investkelowna.com
SUMMARY:Connect + Collab Business Mixer [June] - Founders Series
DESCRIPTION:Network\, exchange ideas\, and connect with like-minded entrepreneurs. Expand your circle\, spark collaborations & be inspired. \nRegister on Eventbrite.
URL:https://www.investkelowna.com/event/connect-collab-business-mixer-june-founders-series/
LOCATION:Sandhill Wines
ATTACH;FMTTYPE=image/png:https://www.investkelowna.com/wp-content/uploads/2025/05/connect-collab-poster-.png
END:VEVENT
BEGIN:VEVENT
DTSTART;TZID=America/Vancouver:20250618T180000
DTEND;TZID=America/Vancouver:20250618T210000
DTSTAMP:20260424T102745
CREATED:20250611T162829Z
LAST-MODIFIED:20250611T162829Z
UID:8602-1750269600-1750280400@www.investkelowna.com
SUMMARY:Legacy - The Nixon Hospitality Group Story
DESCRIPTION:Right on time for the BNA’s 10 year Anniversary – join us at The Innovation Centre for an unforgettable event hosted by JCI Kelowna in partnership with the Nixon Hospitality Group\, where the Nixon family tells us the story of how The Nixon Hospitality Group was built. The story starts with Jim Nixon building the Hotel Eldorado and other iconic Kelowna properties. The sale of the Hotel Eldorado was the spark that lit up the next generation\, paving the way for Kyle and Carolyn Nixon to rapidly expand the Nixon Hospitality Group properties – including BNA\, Skinny Dukes\, Bernie’s\, Snowshoe Sam’s\, The Bohemian Cafe\, and others. \nRead more and get your tickets on Eventbrite.
URL:https://www.investkelowna.com/event/legacy-the-nixon-hospitality-group-story/
LOCATION:The Innovation Centre
ATTACH;FMTTYPE=image/png:https://www.investkelowna.com/wp-content/uploads/2025/06/legacy.png
END:VEVENT
END:VCALENDAR