BEGIN:VCALENDAR
VERSION:2.0
PRODID:-//Central Okanagan Economic Development Commission - ECPv6.15.18//NONSGML v1.0//EN
CALSCALE:GREGORIAN
METHOD:PUBLISH
X-ORIGINAL-URL:https://www.investkelowna.com
X-WR-CALDESC:Events for Central Okanagan Economic Development Commission
REFRESH-INTERVAL;VALUE=DURATION:PT1H
X-Robots-Tag:noindex
X-PUBLISHED-TTL:PT1H
BEGIN:VTIMEZONE
TZID:America/Vancouver
BEGIN:DAYLIGHT
TZOFFSETFROM:-0800
TZOFFSETTO:-0700
TZNAME:PDT
DTSTART:20240310T100000
END:DAYLIGHT
BEGIN:STANDARD
TZOFFSETFROM:-0700
TZOFFSETTO:-0800
TZNAME:PST
DTSTART:20241103T090000
END:STANDARD
BEGIN:DAYLIGHT
TZOFFSETFROM:-0800
TZOFFSETTO:-0700
TZNAME:PDT
DTSTART:20250309T100000
END:DAYLIGHT
BEGIN:STANDARD
TZOFFSETFROM:-0700
TZOFFSETTO:-0800
TZNAME:PST
DTSTART:20251102T090000
END:STANDARD
BEGIN:DAYLIGHT
TZOFFSETFROM:-0800
TZOFFSETTO:-0700
TZNAME:PDT
DTSTART:20260308T100000
END:DAYLIGHT
BEGIN:STANDARD
TZOFFSETFROM:-0700
TZOFFSETTO:-0800
TZNAME:PST
DTSTART:20261101T090000
END:STANDARD
END:VTIMEZONE
BEGIN:VEVENT
DTSTART;TZID=America/Vancouver:20250622T090000
DTEND;TZID=America/Vancouver:20250624T160000
DTSTAMP:20260424T102803
CREATED:20250530T211636Z
LAST-MODIFIED:20250530T211636Z
UID:8575-1750582800-1750780800@www.investkelowna.com
SUMMARY:Critical Minerals Conference
DESCRIPTION:Conference Overview\nEmpowering the connection of “Discovery to Production” of Canada’s Mineral Sector is recognized as a world class industry with enviable resources that has the expertise\, technology\, experience and an extensive history of success of discovering & developing resources in a sustainable \, socially responsible manner with the enviable position of security of supply.\nLocation: Fairfield by Marriott\, Kelowna\, British Columbia\nDates & Times: Sunday\, June 22 to Tuesday\, June 24\, 2025\nAdditional Info: Workshops scheduled for Sunday\, Conference program commences Monday\, June 23rd.\n\nFor more information visit – https://criticalmineralsconference.com/ 
URL:https://www.investkelowna.com/event/critical-minerals-conference/
LOCATION:Marriot Kelowna
ATTACH;FMTTYPE=image/png:https://www.investkelowna.com/wp-content/uploads/2025/05/CRITICAL-MINERALS-CONFERENCE-Ad-300-x-250-px.png
END:VEVENT
END:VCALENDAR