BEGIN:VCALENDAR
VERSION:2.0
PRODID:-//Central Okanagan Economic Development Commission - ECPv6.15.18//NONSGML v1.0//EN
CALSCALE:GREGORIAN
METHOD:PUBLISH
X-WR-CALNAME:Central Okanagan Economic Development Commission
X-ORIGINAL-URL:https://www.investkelowna.com
X-WR-CALDESC:Events for Central Okanagan Economic Development Commission
REFRESH-INTERVAL;VALUE=DURATION:PT1H
X-Robots-Tag:noindex
X-PUBLISHED-TTL:PT1H
BEGIN:VTIMEZONE
TZID:America/Vancouver
BEGIN:DAYLIGHT
TZOFFSETFROM:-0800
TZOFFSETTO:-0700
TZNAME:PDT
DTSTART:20240310T100000
END:DAYLIGHT
BEGIN:STANDARD
TZOFFSETFROM:-0700
TZOFFSETTO:-0800
TZNAME:PST
DTSTART:20241103T090000
END:STANDARD
BEGIN:DAYLIGHT
TZOFFSETFROM:-0800
TZOFFSETTO:-0700
TZNAME:PDT
DTSTART:20250309T100000
END:DAYLIGHT
BEGIN:STANDARD
TZOFFSETFROM:-0700
TZOFFSETTO:-0800
TZNAME:PST
DTSTART:20251102T090000
END:STANDARD
BEGIN:DAYLIGHT
TZOFFSETFROM:-0800
TZOFFSETTO:-0700
TZNAME:PDT
DTSTART:20260308T100000
END:DAYLIGHT
BEGIN:STANDARD
TZOFFSETFROM:-0700
TZOFFSETTO:-0800
TZNAME:PST
DTSTART:20261101T090000
END:STANDARD
END:VTIMEZONE
BEGIN:VEVENT
DTSTART;TZID=America/Vancouver:20250626T100000
DTEND;TZID=America/Vancouver:20250626T140000
DTSTAMP:20260424T102745
CREATED:20250617T152837Z
LAST-MODIFIED:20250617T152837Z
UID:8624-1750932000-1750946400@www.investkelowna.com
SUMMARY:Summer Hiring Fair 2025
DESCRIPTION:Join KCR Community Resources at the Summer Hiring Fair 2025 on June 26th from 10:00 am to 2:00 pm to meet with employers from the community and have a chance to discuss available positions within different companies. \nRegister on Eventbrite
URL:https://www.investkelowna.com/event/summer-hiring-fair-2025/
LOCATION:Kelowna donwtown library\, 1380 Ellis Street\, Kelowna\, BC\, V1Y 2A2\, Canada
ATTACH;FMTTYPE=image/png:https://www.investkelowna.com/wp-content/uploads/2025/06/KCR-Summer-Hiring-Fair-.png
END:VEVENT
END:VCALENDAR