BEGIN:VCALENDAR
VERSION:2.0
PRODID:-//Central Okanagan Economic Development Commission - ECPv6.15.18//NONSGML v1.0//EN
CALSCALE:GREGORIAN
METHOD:PUBLISH
X-WR-CALNAME:Central Okanagan Economic Development Commission
X-ORIGINAL-URL:https://www.investkelowna.com
X-WR-CALDESC:Events for Central Okanagan Economic Development Commission
REFRESH-INTERVAL;VALUE=DURATION:PT1H
X-Robots-Tag:noindex
X-PUBLISHED-TTL:PT1H
BEGIN:VTIMEZONE
TZID:America/Vancouver
BEGIN:DAYLIGHT
TZOFFSETFROM:-0800
TZOFFSETTO:-0700
TZNAME:PDT
DTSTART:20240310T100000
END:DAYLIGHT
BEGIN:STANDARD
TZOFFSETFROM:-0700
TZOFFSETTO:-0800
TZNAME:PST
DTSTART:20241103T090000
END:STANDARD
BEGIN:DAYLIGHT
TZOFFSETFROM:-0800
TZOFFSETTO:-0700
TZNAME:PDT
DTSTART:20250309T100000
END:DAYLIGHT
BEGIN:STANDARD
TZOFFSETFROM:-0700
TZOFFSETTO:-0800
TZNAME:PST
DTSTART:20251102T090000
END:STANDARD
BEGIN:DAYLIGHT
TZOFFSETFROM:-0800
TZOFFSETTO:-0700
TZNAME:PDT
DTSTART:20260308T100000
END:DAYLIGHT
BEGIN:STANDARD
TZOFFSETFROM:-0700
TZOFFSETTO:-0800
TZNAME:PST
DTSTART:20261101T090000
END:STANDARD
END:VTIMEZONE
BEGIN:VEVENT
DTSTART;TZID=America/Vancouver:20250731T093000
DTEND;TZID=America/Vancouver:20250731T113000
DTSTAMP:20260424T053846
CREATED:20250718T200258Z
LAST-MODIFIED:20250718T200531Z
UID:8761-1753954200-1753961400@www.investkelowna.com
SUMMARY:Biz 101: Start Smart – Business Structures & Tax Basics for Entrepreneurs
DESCRIPTION:Join KCR to learn how to name and register my business. Where can I get funding? What kind of licenses do I need? In this workshop\, they will uncover how to make your business official: The pros and cons of different types of business structures\, they will guide you through the process of naming and registering your business\, provide information on taxes\, licenses\, and permits\, guide you in building your online presence\, and explore potential funding sources for your business. \nRegister today!
URL:https://www.investkelowna.com/event/biz-101-start-smart-business-structures-tax-basics-for-entrepreneurs/
LOCATION:KCR Office
ATTACH;FMTTYPE=image/png:https://www.investkelowna.com/wp-content/uploads/2025/07/Biz-101-.png
END:VEVENT
END:VCALENDAR