BEGIN:VCALENDAR
VERSION:2.0
PRODID:-//Central Okanagan Economic Development Commission - ECPv6.15.18//NONSGML v1.0//EN
CALSCALE:GREGORIAN
METHOD:PUBLISH
X-ORIGINAL-URL:https://www.investkelowna.com
X-WR-CALDESC:Events for Central Okanagan Economic Development Commission
REFRESH-INTERVAL;VALUE=DURATION:PT1H
X-Robots-Tag:noindex
X-PUBLISHED-TTL:PT1H
BEGIN:VTIMEZONE
TZID:America/Vancouver
BEGIN:DAYLIGHT
TZOFFSETFROM:-0800
TZOFFSETTO:-0700
TZNAME:PDT
DTSTART:20240310T100000
END:DAYLIGHT
BEGIN:STANDARD
TZOFFSETFROM:-0700
TZOFFSETTO:-0800
TZNAME:PST
DTSTART:20241103T090000
END:STANDARD
BEGIN:DAYLIGHT
TZOFFSETFROM:-0800
TZOFFSETTO:-0700
TZNAME:PDT
DTSTART:20250309T100000
END:DAYLIGHT
BEGIN:STANDARD
TZOFFSETFROM:-0700
TZOFFSETTO:-0800
TZNAME:PST
DTSTART:20251102T090000
END:STANDARD
BEGIN:DAYLIGHT
TZOFFSETFROM:-0800
TZOFFSETTO:-0700
TZNAME:PDT
DTSTART:20260308T100000
END:DAYLIGHT
BEGIN:STANDARD
TZOFFSETFROM:-0700
TZOFFSETTO:-0800
TZNAME:PST
DTSTART:20261101T090000
END:STANDARD
END:VTIMEZONE
BEGIN:VEVENT
DTSTART;TZID=America/Vancouver:20250819T040000
DTEND;TZID=America/Vancouver:20250819T180000
DTSTAMP:20260424T053921
CREATED:20250731T154152Z
LAST-MODIFIED:20250731T173247Z
UID:8823-1755576000-1755626400@www.investkelowna.com
SUMMARY:Young Professional Ice Cream Social
DESCRIPTION:Instead of our usual coffee social\, we’re mixing things up with an Ice Cream Social — a casual and fun way to network with young professionals and enjoy a treat together. \nHere’s what to expect: \nThe first 50 attendees will receive either a gelato cup or a cold/hot Americano — on us — from the amazing Sandrine French Pastry and Chocolate on Lakeshore road! \nNo Entrance Fee: Joining us is free! \nCome When You Can: Drop by anytime between 4:00 pm to 6:00 pm. Stay for a quick chat or linger longer over your gelato — the pace is yours to set. \nEvent Details: \n\nDate: Tuesday\, August 19th\, 2025\nTime: Drop in anytime from 4:00 pm to 6:00 pm.\nLocation: 3275 Lakeshore Rd #101\, Kelowna\, BC V1W 3S9\nRegister: https://www.eventbrite.ca/e/young-professional-ice-cream-social-tickets-1538180933579?aff=oddtdtcreator\n\nWhether you’re in the mood for something sweet or a caffeine boost\, we’ve got you covered. \nNot sure if you should come to our Ice Cream Social? Join us if you are: \n\nNew to town\nBorn and raised in the Okanagan\nA fresh face to business\nUnder forty\nOver forty (don’t worry\, we don’t i.D.)\nSomeone who likes ice cream\nSomeone who doesn’t like ice cream (it’s optional to go buy)\nLooking to make new friends\, reconnect in the community\, or expand your network\n\nThe Okanagan Young Professionals (OYP) Collective is a program of the COEDC\, and a hub of resources to help attract and retain talent in the region. There’s no membership and we don’t sell anything (other than why it’s so great to live here). All are welcome to come out and join to connect with other awesome young professionals in our community!
URL:https://www.investkelowna.com/event/young-professional-ice-cream-social-4/
LOCATION:Sandrine French Pastry & Chocolate Lakeshore – Patisserie & Cafe\, 3275 Lakeshore Road #101\, Kelowna\, BC\, V1W 3S9\, Canada
ATTACH;FMTTYPE=image/png:https://www.investkelowna.com/wp-content/uploads/2025/07/Aug-2025-Ice-Cream-Social-Eventbrite-1.png
END:VEVENT
BEGIN:VEVENT
DTSTART;TZID=America/Vancouver:20250819T160000
DTEND;TZID=America/Vancouver:20250819T180000
DTSTAMP:20260424T053921
CREATED:20250815T223423Z
LAST-MODIFIED:20250815T223423Z
UID:8860-1755619200-1755626400@www.investkelowna.com
SUMMARY:Casual Tuesdays Networking at Famoso
DESCRIPTION:Break free of your office and join Future of Productivity at Famoso for Casual Tuesdays Networking on August 19\, 4-6 PM.
URL:https://www.investkelowna.com/event/casual-tuesdays-networking-at-famoso/
LOCATION:Famoso Italian Pizzeria
ATTACH;FMTTYPE=image/jpeg:https://www.investkelowna.com/wp-content/uploads/2025/08/Famoso.jpg
END:VEVENT
END:VCALENDAR