BEGIN:VCALENDAR
VERSION:2.0
PRODID:-//Central Okanagan Economic Development Commission - ECPv6.15.18//NONSGML v1.0//EN
CALSCALE:GREGORIAN
METHOD:PUBLISH
X-WR-CALNAME:Central Okanagan Economic Development Commission
X-ORIGINAL-URL:https://www.investkelowna.com
X-WR-CALDESC:Events for Central Okanagan Economic Development Commission
REFRESH-INTERVAL;VALUE=DURATION:PT1H
X-Robots-Tag:noindex
X-PUBLISHED-TTL:PT1H
BEGIN:VTIMEZONE
TZID:America/Vancouver
BEGIN:DAYLIGHT
TZOFFSETFROM:-0800
TZOFFSETTO:-0700
TZNAME:PDT
DTSTART:20240310T100000
END:DAYLIGHT
BEGIN:STANDARD
TZOFFSETFROM:-0700
TZOFFSETTO:-0800
TZNAME:PST
DTSTART:20241103T090000
END:STANDARD
BEGIN:DAYLIGHT
TZOFFSETFROM:-0800
TZOFFSETTO:-0700
TZNAME:PDT
DTSTART:20250309T100000
END:DAYLIGHT
BEGIN:STANDARD
TZOFFSETFROM:-0700
TZOFFSETTO:-0800
TZNAME:PST
DTSTART:20251102T090000
END:STANDARD
BEGIN:DAYLIGHT
TZOFFSETFROM:-0800
TZOFFSETTO:-0700
TZNAME:PDT
DTSTART:20260308T100000
END:DAYLIGHT
BEGIN:STANDARD
TZOFFSETFROM:-0700
TZOFFSETTO:-0800
TZNAME:PST
DTSTART:20261101T090000
END:STANDARD
END:VTIMEZONE
BEGIN:VEVENT
DTSTART;TZID=America/Vancouver:20250827T120000
DTEND;TZID=America/Vancouver:20250827T130000
DTSTAMP:20260424T053759
CREATED:20250822T175642Z
LAST-MODIFIED:20250822T175642Z
UID:8887-1756296000-1756299600@www.investkelowna.com
SUMMARY:Connectee Info Session - Get Connected in the Central Okanagan
DESCRIPTION:Are you new to the Central Okanagan and looking to grow your professional network? The Connector Program\, powered by the Central Okanagan Economic Development Commission (COEDC)\, helps newcomers\, students\, and professionals build connections through warm\, one-on-one introductions with established business and community leaders. \nThis free program is for you if you are: \n\nNew to the Central Okanagan (from Canada or abroad)\nA recent or soon-to-be post-secondary graduate\nSomeone who relocated here for a spouse or partner’s career\nReturning to the region and eager to re-establish connections\n\nAt this short info session\, you’ll learn: \n\nHow the program works\nWho is eligible to apply\nWhat to expect as a Connectee\nHow networking opens doors to the hidden job market\nHow to apply\n\nTake the first step toward building your Okanagan network – register today! \nThis event is just for those new to the Connector Program. If you’ve already applied or participated in the past but would like to attend please contact us at connector@investkelowna.com. \nRegister on Eventbrite for free – Get Connected in the Central Okanagan Tickets\, Wed\, Aug 27\, 2025 at 12:00 PM | Eventbrite
URL:https://www.investkelowna.com/event/connectee-info-session-get-connected-in-the-central-okanagan/
LOCATION:Online
ATTACH;FMTTYPE=image/jpeg:https://www.investkelowna.com/wp-content/uploads/2025/08/Connecttee-Connectee-Info-Session.jpg
END:VEVENT
BEGIN:VEVENT
DTSTART;TZID=America/Vancouver:20250827T133000
DTEND;TZID=America/Vancouver:20250827T150000
DTSTAMP:20260424T053759
CREATED:20250718T195326Z
LAST-MODIFIED:20250718T195326Z
UID:8752-1756301400-1756306800@www.investkelowna.com
SUMMARY:Job Club
DESCRIPTION:KCR’s Job Club is a networking activity for newcomers who are seeking employment\, brushing up on their job search skills\, researching on local job market trends\, and needing job support from KCR’s best employment specialists. \nRegister today.
URL:https://www.investkelowna.com/event/job-club-10/
LOCATION:KCR Office
ATTACH;FMTTYPE=image/png:https://www.investkelowna.com/wp-content/uploads/2025/07/Job-Club.png
END:VEVENT
END:VCALENDAR