BEGIN:VCALENDAR
VERSION:2.0
PRODID:-//Central Okanagan Economic Development Commission - ECPv6.15.18//NONSGML v1.0//EN
CALSCALE:GREGORIAN
METHOD:PUBLISH
X-WR-CALNAME:Central Okanagan Economic Development Commission
X-ORIGINAL-URL:https://www.investkelowna.com
X-WR-CALDESC:Events for Central Okanagan Economic Development Commission
REFRESH-INTERVAL;VALUE=DURATION:PT1H
X-Robots-Tag:noindex
X-PUBLISHED-TTL:PT1H
BEGIN:VTIMEZONE
TZID:America/Vancouver
BEGIN:DAYLIGHT
TZOFFSETFROM:-0800
TZOFFSETTO:-0700
TZNAME:PDT
DTSTART:20250309T100000
END:DAYLIGHT
BEGIN:STANDARD
TZOFFSETFROM:-0700
TZOFFSETTO:-0800
TZNAME:PST
DTSTART:20251102T090000
END:STANDARD
BEGIN:DAYLIGHT
TZOFFSETFROM:-0800
TZOFFSETTO:-0700
TZNAME:PDT
DTSTART:20260308T100000
END:DAYLIGHT
BEGIN:STANDARD
TZOFFSETFROM:-0700
TZOFFSETTO:-0800
TZNAME:PST
DTSTART:20261101T090000
END:STANDARD
BEGIN:DAYLIGHT
TZOFFSETFROM:-0800
TZOFFSETTO:-0700
TZNAME:PDT
DTSTART:20270314T100000
END:DAYLIGHT
BEGIN:STANDARD
TZOFFSETFROM:-0700
TZOFFSETTO:-0800
TZNAME:PST
DTSTART:20271107T090000
END:STANDARD
END:VTIMEZONE
BEGIN:VEVENT
DTSTART;TZID=America/Vancouver:20260115T170000
DTEND;TZID=America/Vancouver:20260115T190000
DTSTAMP:20260422T024359
CREATED:20260107T171211Z
LAST-MODIFIED:20260107T171211Z
UID:9441-1768496400-1768503600@www.investkelowna.com
SUMMARY:GWBOT January Business After Hours
DESCRIPTION:Join the Greater Westside Board of Trade for their January Business After Hours.
URL:https://www.investkelowna.com/event/gwbot-january-business-after-hours/
LOCATION:Pearl and Fern
ATTACH;FMTTYPE=image/jpeg:https://www.investkelowna.com/wp-content/uploads/2026/01/GWBOT-After-Hours-Jan-2026.jpg
ORGANIZER;CN="Greater Westside Board of Trade":MAILTO:admin@gwboardoftrade.com
END:VEVENT
END:VCALENDAR