BEGIN:VCALENDAR
VERSION:2.0
PRODID:-//Central Okanagan Economic Development Commission - ECPv6.15.18//NONSGML v1.0//EN
CALSCALE:GREGORIAN
METHOD:PUBLISH
X-WR-CALNAME:Central Okanagan Economic Development Commission
X-ORIGINAL-URL:https://www.investkelowna.com
X-WR-CALDESC:Events for Central Okanagan Economic Development Commission
REFRESH-INTERVAL;VALUE=DURATION:PT1H
X-Robots-Tag:noindex
X-PUBLISHED-TTL:PT1H
BEGIN:VTIMEZONE
TZID:America/Vancouver
BEGIN:DAYLIGHT
TZOFFSETFROM:-0800
TZOFFSETTO:-0700
TZNAME:PDT
DTSTART:20250309T100000
END:DAYLIGHT
BEGIN:STANDARD
TZOFFSETFROM:-0700
TZOFFSETTO:-0800
TZNAME:PST
DTSTART:20251102T090000
END:STANDARD
BEGIN:DAYLIGHT
TZOFFSETFROM:-0800
TZOFFSETTO:-0700
TZNAME:PDT
DTSTART:20260308T100000
END:DAYLIGHT
BEGIN:STANDARD
TZOFFSETFROM:-0700
TZOFFSETTO:-0800
TZNAME:PST
DTSTART:20261101T090000
END:STANDARD
BEGIN:DAYLIGHT
TZOFFSETFROM:-0800
TZOFFSETTO:-0700
TZNAME:PDT
DTSTART:20270314T100000
END:DAYLIGHT
BEGIN:STANDARD
TZOFFSETFROM:-0700
TZOFFSETTO:-0800
TZNAME:PST
DTSTART:20271107T090000
END:STANDARD
END:VTIMEZONE
BEGIN:VEVENT
DTSTART;TZID=America/Vancouver:20260204T080000
DTEND;TZID=America/Vancouver:20260204T093000
DTSTAMP:20260422T014555
CREATED:20251224T213630Z
LAST-MODIFIED:20251224T213630Z
UID:9406-1770192000-1770197400@www.investkelowna.com
SUMMARY:Young Professional Coffee Social
DESCRIPTION:The OYP Collective is excited to collaborate with Sncewips Heritage Museum and Gift Store again\, combining networking\, community connection\, and exploring the syilx culture and heritage! Join us on Feb 4 from 8:00 to 9:30 a.m. to expand your professional and social network. From 9:00 to 9:30 a.m.\, you’ll enjoy a guided tour of the museum to learn about the traditional\, ancestral\, and unceded territory of the syilx people. As an Indigenous-owned and operated business\, the museum amplifies syilx voices\, connects our community\, and provides a safe space for open\, honest conversation. \nHere’s What You Need to Know: \nJoining us is free! Coffee and snacks will be provided \nDrop by anytime between 8:00 to 9:00 a.m. From 9:00 a.m onwards\, enjoy a guided tour of the Sncewips Heritage Museum \nWho’s Welcome? \n• Just moved to town? Perfect\, meet your first friends here! \n• Grew up in the Okanagan? Be the guide for newcomers. \n• New to the business world or a seasoned professional? Share stories and insights. \n• Whether you’re under forty\, over forty (and yes\, we don’t check IDs)\, or anywhere in-between\, you’re welcome. \n• Need that morning caffeine fix to kickstart your day? We get it\, and we’ve got you covered. \n• Looking to make new friends\, find your community footing again\, or broaden your professional network? You’re in the right place. \nThe Okanagan Young Professionals (OYP) Collective is a program of the COEDC\, and a hub of resources to help attract and retain talent in the region. There’s no membership and we don’t sell anything (other than why it’s so great to live here). All are welcome to come out and join to connect with other awesome young professionals in our community!
URL:https://www.investkelowna.com/event/young-professional-coffee-social-22/
LOCATION:Sncewips Heritage Museum and Gift Store\, 525 British Columbia 97 #Unit 260\, Westbank\, British Columbia\, V1Z 4C9\, Canada
CATEGORIES:OYP Events
ATTACH;FMTTYPE=image/png:https://www.investkelowna.com/wp-content/uploads/2025/12/Feb-2026-Coffee-Social-eventbrite.png
END:VEVENT
BEGIN:VEVENT
DTSTART;TZID=America/Vancouver:20260204T080000
DTEND;TZID=America/Vancouver:20260204T170000
DTSTAMP:20260422T014555
CREATED:20260122T165811Z
LAST-MODIFIED:20260122T165811Z
UID:9498-1770192000-1770224400@www.investkelowna.com
SUMMARY:Intro to AI: Fundamental Concepts
DESCRIPTION:Curious about Artificial Intelligence but not sure how it fits into your business? This free one-hour workshop that’s in partnership with WeBC introduces AI in clear\, non-technical language and shows how it can be used to save time\, reduce costs\, and stay competitive. \n 
URL:https://www.investkelowna.com/event/intro-to-ai-fundamental-concepts/
LOCATION:Online
ATTACH;FMTTYPE=image/png:https://www.investkelowna.com/wp-content/uploads/2026/01/Canada-Learning-Code-event.png
END:VEVENT
END:VCALENDAR