BEGIN:VCALENDAR
VERSION:2.0
PRODID:-//Central Okanagan Economic Development Commission - ECPv6.15.18//NONSGML v1.0//EN
CALSCALE:GREGORIAN
METHOD:PUBLISH
X-WR-CALNAME:Central Okanagan Economic Development Commission
X-ORIGINAL-URL:https://www.investkelowna.com
X-WR-CALDESC:Events for Central Okanagan Economic Development Commission
REFRESH-INTERVAL;VALUE=DURATION:PT1H
X-Robots-Tag:noindex
X-PUBLISHED-TTL:PT1H
BEGIN:VTIMEZONE
TZID:America/Vancouver
BEGIN:DAYLIGHT
TZOFFSETFROM:-0800
TZOFFSETTO:-0700
TZNAME:PDT
DTSTART:20250309T100000
END:DAYLIGHT
BEGIN:STANDARD
TZOFFSETFROM:-0700
TZOFFSETTO:-0800
TZNAME:PST
DTSTART:20251102T090000
END:STANDARD
BEGIN:DAYLIGHT
TZOFFSETFROM:-0800
TZOFFSETTO:-0700
TZNAME:PDT
DTSTART:20260308T100000
END:DAYLIGHT
BEGIN:STANDARD
TZOFFSETFROM:-0700
TZOFFSETTO:-0800
TZNAME:PST
DTSTART:20261101T090000
END:STANDARD
BEGIN:DAYLIGHT
TZOFFSETFROM:-0800
TZOFFSETTO:-0700
TZNAME:PDT
DTSTART:20270314T100000
END:DAYLIGHT
BEGIN:STANDARD
TZOFFSETFROM:-0700
TZOFFSETTO:-0800
TZNAME:PST
DTSTART:20271107T090000
END:STANDARD
END:VTIMEZONE
BEGIN:VEVENT
DTSTART;TZID=America/Vancouver:20260410T080000
DTEND;TZID=America/Vancouver:20260410T091500
DTSTAMP:20260419T221654
CREATED:20260312T162422Z
LAST-MODIFIED:20260312T162422Z
UID:9683-1775808000-1775812500@www.investkelowna.com
SUMMARY:Building the Future - A Conversation with Andrew Bowerbank
DESCRIPTION:Join us for an engaging U40 event featuring Andrew Bowerbank\, a leading voice in technology\, innovation\, sustainability\, and housing delivery. This dynamic session is designed for emerging professionals in the development industry who want to stay ahead in a rapidly evolving sector. \n\n\n\nSuccess in today’s development industry is not just about delivering projects. It is about recognizing the trends shaping the market and positioning yourself to lead within them. In this presentation\, Andrew will explore how emerging opportunities in innovation\, city building\, and industry transformation can create powerful career pathways for those willing to think strategically and build strong networks. Drawing from decades of experience working on major projects and industry initiatives in Canada and internationally\, Andrew will share perspectives on how professionals can move beyond participation in the market to actively shaping it\, with a special focus on the unique opportunities emerging in Kelowna as one of Canada’s fastest growing cities. \nThis event also offers valuable networking opportunities with fellow U40 professionals working across development\, planning\, construction\, finance\, and consulting. \nWhether you’re looking to expand your knowledge\, connect with peers\, or gain inspiration from one of the industry’s forward-thinking leaders\, this event will leave you with new ideas and perspectives on the future of housing and development. \nSpace is limited — reserve your spot today! \n\n\n\n\n\nDate: Friday\, April 10th\, 2026 \nTime: 8:00 – 9:15am \nWhere: Innovation Centre\, 460 Doyle Ave\, Kelowna\, BC V1Y 0C2
URL:https://www.investkelowna.com/event/building-the-future-a-conversation-with-andrew-bowerbank/
LOCATION:The Innovation Centre
ATTACH;FMTTYPE=image/png:https://www.investkelowna.com/wp-content/uploads/2026/03/Screenshot-2026-03-12-092155.png
END:VEVENT
BEGIN:VEVENT
DTSTART;TZID=America/Vancouver:20260410T120000
DTEND;TZID=America/Vancouver:20260410T130000
DTSTAMP:20260419T221654
CREATED:20260407T155306Z
LAST-MODIFIED:20260407T155306Z
UID:9751-1775822400-1775826000@www.investkelowna.com
SUMMARY:Challenging Career Myths\, Beliefs and Mindsets: Turning Limits into Possibilities
DESCRIPTION:This free webinar will use a facilitation-based approach to help spark mindset shifts through reflection\, curiosity and reframing.
URL:https://www.investkelowna.com/event/challenging-career-myths-beliefs-and-mindsets-turning-limits-into-possibilities/
LOCATION:Webinar
ATTACH;FMTTYPE=image/jpeg:https://www.investkelowna.com/wp-content/uploads/2026/04/CERIC-Webinar-.jpg
END:VEVENT
BEGIN:VEVENT
DTSTART;TZID=America/Vancouver:20260410T160000
DTEND;TZID=America/Vancouver:20260410T180000
DTSTAMP:20260419T221654
CREATED:20260220T191351Z
LAST-MODIFIED:20260220T191351Z
UID:9607-1775836800-1775844000@www.investkelowna.com
SUMMARY:Summit Social: Networking Event
DESCRIPTION:Friday night Summit Social before the Inspired City Summit conference. \nThe social will be held at the Rotary Centre for the Arts.
URL:https://www.investkelowna.com/event/summit-social-networking-event/
LOCATION:Rotary Centre for the Arts
ATTACH;FMTTYPE=image/png:https://www.investkelowna.com/wp-content/uploads/2026/02/Inspired-City-Summit-2026.png
END:VEVENT
END:VCALENDAR