BEGIN:VCALENDAR
VERSION:2.0
PRODID:-//Central Okanagan Economic Development Commission - ECPv6.15.18//NONSGML v1.0//EN
CALSCALE:GREGORIAN
METHOD:PUBLISH
X-ORIGINAL-URL:https://www.investkelowna.com
X-WR-CALDESC:Events for Central Okanagan Economic Development Commission
REFRESH-INTERVAL;VALUE=DURATION:PT1H
X-Robots-Tag:noindex
X-PUBLISHED-TTL:PT1H
BEGIN:VTIMEZONE
TZID:America/Vancouver
BEGIN:DAYLIGHT
TZOFFSETFROM:-0800
TZOFFSETTO:-0700
TZNAME:PDT
DTSTART:20250309T100000
END:DAYLIGHT
BEGIN:STANDARD
TZOFFSETFROM:-0700
TZOFFSETTO:-0800
TZNAME:PST
DTSTART:20251102T090000
END:STANDARD
BEGIN:DAYLIGHT
TZOFFSETFROM:-0800
TZOFFSETTO:-0700
TZNAME:PDT
DTSTART:20260308T100000
END:DAYLIGHT
BEGIN:STANDARD
TZOFFSETFROM:-0700
TZOFFSETTO:-0800
TZNAME:PST
DTSTART:20261101T090000
END:STANDARD
BEGIN:DAYLIGHT
TZOFFSETFROM:-0800
TZOFFSETTO:-0700
TZNAME:PDT
DTSTART:20270314T100000
END:DAYLIGHT
BEGIN:STANDARD
TZOFFSETFROM:-0700
TZOFFSETTO:-0800
TZNAME:PST
DTSTART:20271107T090000
END:STANDARD
END:VTIMEZONE
BEGIN:VEVENT
DTSTART;TZID=America/Vancouver:20260411T093000
DTEND;TZID=America/Vancouver:20260411T160000
DTSTAMP:20260420T005826
CREATED:20260220T190503Z
LAST-MODIFIED:20260221T000253Z
UID:9603-1775899800-1775923200@www.investkelowna.com
SUMMARY:Inspired City Summit 2026
DESCRIPTION:The Inspired City Summit has quickly become a must-attend event in the non-profit sector\, growing bigger and more meaningful every year. With the event selling out year after year\, they are excited to share that the 2026 Summit will be moving to the Delta Grand Conference Centre. This inspiring\, full-day conference will bring together more than 300 community leaders and changemakers from across the valley for learning\, collaboration\, and connection.
URL:https://www.investkelowna.com/event/inspired-city-summit-2026/
LOCATION:Delta Grand Conference Centre
ATTACH;FMTTYPE=image/png:https://www.investkelowna.com/wp-content/uploads/2026/02/Inspired-City-Summit-2026.png
END:VEVENT
BEGIN:VEVENT
DTSTART;TZID=America/Vancouver:20260411T160000
DTEND;TZID=America/Vancouver:20260411T180000
DTSTAMP:20260420T005826
CREATED:20260220T192307Z
LAST-MODIFIED:20260220T192307Z
UID:9611-1775923200-1775930400@www.investkelowna.com
SUMMARY:Inspired connections networking event
DESCRIPTION:Inspired connections networking event after the Inspired City Summit 2026.
URL:https://www.investkelowna.com/event/inspired-connections-networking-event/
LOCATION:The Delta Grand
ATTACH;FMTTYPE=image/png:https://www.investkelowna.com/wp-content/uploads/2026/02/Inspired-City-Summit-2026.png
END:VEVENT
END:VCALENDAR