BEGIN:VCALENDAR
VERSION:2.0
PRODID:-//Central Okanagan Economic Development Commission - ECPv6.15.18//NONSGML v1.0//EN
CALSCALE:GREGORIAN
METHOD:PUBLISH
X-WR-CALNAME:Central Okanagan Economic Development Commission
X-ORIGINAL-URL:https://www.investkelowna.com
X-WR-CALDESC:Events for Central Okanagan Economic Development Commission
REFRESH-INTERVAL;VALUE=DURATION:PT1H
X-Robots-Tag:noindex
X-PUBLISHED-TTL:PT1H
BEGIN:VTIMEZONE
TZID:America/Vancouver
BEGIN:DAYLIGHT
TZOFFSETFROM:-0800
TZOFFSETTO:-0700
TZNAME:PDT
DTSTART:20250309T100000
END:DAYLIGHT
BEGIN:STANDARD
TZOFFSETFROM:-0700
TZOFFSETTO:-0800
TZNAME:PST
DTSTART:20251102T090000
END:STANDARD
BEGIN:DAYLIGHT
TZOFFSETFROM:-0800
TZOFFSETTO:-0700
TZNAME:PDT
DTSTART:20260308T100000
END:DAYLIGHT
BEGIN:STANDARD
TZOFFSETFROM:-0700
TZOFFSETTO:-0800
TZNAME:PST
DTSTART:20261101T090000
END:STANDARD
BEGIN:DAYLIGHT
TZOFFSETFROM:-0800
TZOFFSETTO:-0700
TZNAME:PDT
DTSTART:20270314T100000
END:DAYLIGHT
BEGIN:STANDARD
TZOFFSETFROM:-0700
TZOFFSETTO:-0800
TZNAME:PST
DTSTART:20271107T090000
END:STANDARD
END:VTIMEZONE
BEGIN:VEVENT
DTSTART;TZID=America/Vancouver:20260415T170000
DTEND;TZID=America/Vancouver:20260415T190000
DTSTAMP:20260422T041727
CREATED:20260410T222749Z
LAST-MODIFIED:20260410T223231Z
UID:9768-1776272400-1776279600@www.investkelowna.com
SUMMARY:Business After Hours - Hosted by Folktale Cider & RBC Lake Country
DESCRIPTION:Join Lake Country Chamber of Commerce for a vibrant evening of building connections at our April 15th Business After 5 event\, collaboratively hosted by Folktale Cider and sponsored by RBC Lake Country Branch.
URL:https://www.investkelowna.com/event/business-after-hours-hosted-by-folktale-cider-rbc-lake-country/
LOCATION:Folktale Cider\, 3950 Irvine Rd\, Lake Country\, BC\, V4V 2G4\, Canada
ATTACH;FMTTYPE=image/jpeg:https://www.investkelowna.com/wp-content/uploads/2026/04/LCC-Logo.jpg
END:VEVENT
BEGIN:VEVENT
DTSTART;TZID=America/Vancouver:20260415T173000
DTEND;TZID=America/Vancouver:20260415T183000
DTSTAMP:20260422T041727
CREATED:20260413T191155Z
LAST-MODIFIED:20260413T191155Z
UID:9779-1776274200-1776277800@www.investkelowna.com
SUMMARY:Job connect for future expansion workshop
DESCRIPTION:Did you know that most job opportunities come from conversations\, not job boards? Learning how to start and navigate meaningful conversations can open doors to new opportunities.
URL:https://www.investkelowna.com/event/job-connect-for-future-expansion-workshop/
LOCATION:zoom event\, Canada
ATTACH;FMTTYPE=image/jpeg:https://www.investkelowna.com/wp-content/uploads/2026/04/Job-Connect-for-future-.jpg
END:VEVENT
END:VCALENDAR