BEGIN:VCALENDAR
VERSION:2.0
PRODID:-//Central Okanagan Economic Development Commission - ECPv6.15.18//NONSGML v1.0//EN
CALSCALE:GREGORIAN
METHOD:PUBLISH
X-WR-CALNAME:Central Okanagan Economic Development Commission
X-ORIGINAL-URL:https://www.investkelowna.com
X-WR-CALDESC:Events for Central Okanagan Economic Development Commission
REFRESH-INTERVAL;VALUE=DURATION:PT1H
X-Robots-Tag:noindex
X-PUBLISHED-TTL:PT1H
BEGIN:VTIMEZONE
TZID:America/Vancouver
BEGIN:DAYLIGHT
TZOFFSETFROM:-0800
TZOFFSETTO:-0700
TZNAME:PDT
DTSTART:20250309T100000
END:DAYLIGHT
BEGIN:STANDARD
TZOFFSETFROM:-0700
TZOFFSETTO:-0800
TZNAME:PST
DTSTART:20251102T090000
END:STANDARD
BEGIN:DAYLIGHT
TZOFFSETFROM:-0800
TZOFFSETTO:-0700
TZNAME:PDT
DTSTART:20260308T100000
END:DAYLIGHT
BEGIN:STANDARD
TZOFFSETFROM:-0700
TZOFFSETTO:-0800
TZNAME:PST
DTSTART:20261101T090000
END:STANDARD
BEGIN:DAYLIGHT
TZOFFSETFROM:-0800
TZOFFSETTO:-0700
TZNAME:PDT
DTSTART:20270314T100000
END:DAYLIGHT
BEGIN:STANDARD
TZOFFSETFROM:-0700
TZOFFSETTO:-0800
TZNAME:PST
DTSTART:20271107T090000
END:STANDARD
END:VTIMEZONE
BEGIN:VEVENT
DTSTART;TZID=America/Vancouver:20260507T173000
DTEND;TZID=America/Vancouver:20260507T200000
DTSTAMP:20260424T033421
CREATED:20260407T152448Z
LAST-MODIFIED:20260407T152448Z
UID:9735-1778175000-1778184000@www.investkelowna.com
SUMMARY:May 2026 OC Cultivates - Tasting Festival and Wine Innovators Conversation
DESCRIPTION:Enjoy a delicious evening celebrating Okanagan food\, beverage and tourism. Learn from industry innovators in engaging conversation.
URL:https://www.investkelowna.com/event/may-2026-oc-cultivates-tasting-festival-and-wine-innovators-conversation/
LOCATION:Okanagan College – Kelowna Campus\, 1000 K.L.O. Rd\, Kelowna\, BC\, V1Y 4X8\, Canada
ATTACH;FMTTYPE=image/jpeg:https://www.investkelowna.com/wp-content/uploads/2026/04/OC-Cultivates-Image.jpg
END:VEVENT
END:VCALENDAR