BEGIN:VCALENDAR
VERSION:2.0
PRODID:-//Central Okanagan Economic Development Commission - ECPv6.15.18//NONSGML v1.0//EN
CALSCALE:GREGORIAN
METHOD:PUBLISH
X-WR-CALNAME:Central Okanagan Economic Development Commission
X-ORIGINAL-URL:https://www.investkelowna.com
X-WR-CALDESC:Events for Central Okanagan Economic Development Commission
REFRESH-INTERVAL;VALUE=DURATION:PT1H
X-Robots-Tag:noindex
X-PUBLISHED-TTL:PT1H
BEGIN:VTIMEZONE
TZID:America/Vancouver
BEGIN:DAYLIGHT
TZOFFSETFROM:-0800
TZOFFSETTO:-0700
TZNAME:PDT
DTSTART:20250309T100000
END:DAYLIGHT
BEGIN:STANDARD
TZOFFSETFROM:-0700
TZOFFSETTO:-0800
TZNAME:PST
DTSTART:20251102T090000
END:STANDARD
BEGIN:DAYLIGHT
TZOFFSETFROM:-0800
TZOFFSETTO:-0700
TZNAME:PDT
DTSTART:20260308T100000
END:DAYLIGHT
BEGIN:STANDARD
TZOFFSETFROM:-0700
TZOFFSETTO:-0800
TZNAME:PST
DTSTART:20261101T090000
END:STANDARD
BEGIN:DAYLIGHT
TZOFFSETFROM:-0800
TZOFFSETTO:-0700
TZNAME:PDT
DTSTART:20270314T100000
END:DAYLIGHT
BEGIN:STANDARD
TZOFFSETFROM:-0700
TZOFFSETTO:-0800
TZNAME:PST
DTSTART:20271107T090000
END:STANDARD
END:VTIMEZONE
BEGIN:VEVENT
DTSTART;TZID=America/Vancouver:20260319T090000
DTEND;TZID=America/Vancouver:20260319T103000
DTSTAMP:20260422T043128
CREATED:20260107T161757Z
LAST-MODIFIED:20260209T211701Z
UID:9424-1773910800-1773916200@www.investkelowna.com
SUMMARY:Young Professional Coffee Social
DESCRIPTION:Kickstart your day by making connections with young professionals\, alumni and postsecondary students at the Coffee Social on Wednesday\, March 19th\, from 9:00 am to 10:30 am at UBC Okanagan Engineering\, Management\, and Education (EME) Building – 1137 Alumni Avenue\, Kelowna\, BC V1V 1V7. This is your chance to network with talented students\, alumni\, and professionals from different industries! Join us to connect with various community members in a casual and friendly setting. \nHere’s What You Need to Know: \nNo Entrance Fee: Coffee and snacks will be on us. \nCome When You Can: Drop by anytime between 9:00 am to 10:30 am. Stay for a quick chat or linger longer over your coffee — the pace is yours to set. \nDate: March 19th\, 2025 \nLocation: UBC Okanagan Engineering\, Management\, and Education (EME) Building -1137 Alumni Avenue\, Kelowna\, BC V1V 1V7. Building located behind the bus loop. \nWho’s welcome? \n\nJust moved to town? Perfect\, meet your first friends here!\nGrew up in the Okanagan? Be the guide for newcomers.\nNew to the business world or a seasoned professional? Share stories and insights.\nWhether you’re under forty\, over forty (and yes\, we don’t check IDs)\, or anywhere in-between\, you’re welcome.\nNeed that morning caffeine fix to kickstart your day? We get it\, and we’ve got you covered.\nLooking to make new friends\, find your community footing again\, or broaden your professional network? You’re in the right place\nNo membership\, no sales pitches\, just genuine connections. We’re here to celebrate what makes living in the Okanagan great.\nThe OYP Collective\, part of the COEDC\, is your gateway to connecting with other dynamic young professionals in our community.\n\nAbout OYP Collective \nThe Okanagan Young Professionals (OYP) Collective is a program of the COEDC\, and a hub of resources to help attract and retain talent in the region. There’s no membership and we don’t sell anything (other than why it’s so great to live here). All are welcome to come out and join to connect with other awesome young professionals in our community!
URL:https://www.investkelowna.com/event/young-professional-coffee-social-24/
LOCATION:UBC Okanagan Campus
CATEGORIES:OYP Events
ATTACH;FMTTYPE=image/png:https://www.investkelowna.com/wp-content/uploads/2026/01/March-2026-Coffee-Social-Eventbrite-Poster.png
END:VEVENT
END:VCALENDAR