BEGIN:VCALENDAR
VERSION:2.0
PRODID:-//Central Okanagan Economic Development Commission - ECPv6.15.18//NONSGML v1.0//EN
CALSCALE:GREGORIAN
METHOD:PUBLISH
X-WR-CALNAME:Central Okanagan Economic Development Commission
X-ORIGINAL-URL:https://www.investkelowna.com
X-WR-CALDESC:Events for Central Okanagan Economic Development Commission
REFRESH-INTERVAL;VALUE=DURATION:PT1H
X-Robots-Tag:noindex
X-PUBLISHED-TTL:PT1H
BEGIN:VTIMEZONE
TZID:America/Vancouver
BEGIN:DAYLIGHT
TZOFFSETFROM:-0800
TZOFFSETTO:-0700
TZNAME:PDT
DTSTART:20230312T100000
END:DAYLIGHT
BEGIN:STANDARD
TZOFFSETFROM:-0700
TZOFFSETTO:-0800
TZNAME:PST
DTSTART:20231105T090000
END:STANDARD
BEGIN:DAYLIGHT
TZOFFSETFROM:-0800
TZOFFSETTO:-0700
TZNAME:PDT
DTSTART:20240310T100000
END:DAYLIGHT
BEGIN:STANDARD
TZOFFSETFROM:-0700
TZOFFSETTO:-0800
TZNAME:PST
DTSTART:20241103T090000
END:STANDARD
BEGIN:DAYLIGHT
TZOFFSETFROM:-0800
TZOFFSETTO:-0700
TZNAME:PDT
DTSTART:20250309T100000
END:DAYLIGHT
BEGIN:STANDARD
TZOFFSETFROM:-0700
TZOFFSETTO:-0800
TZNAME:PST
DTSTART:20251102T090000
END:STANDARD
BEGIN:DAYLIGHT
TZOFFSETFROM:-0800
TZOFFSETTO:-0700
TZNAME:PDT
DTSTART:20260308T100000
END:DAYLIGHT
BEGIN:STANDARD
TZOFFSETFROM:-0700
TZOFFSETTO:-0800
TZNAME:PST
DTSTART:20261101T090000
END:STANDARD
END:VTIMEZONE
BEGIN:VEVENT
DTSTART;TZID=America/Vancouver:20241121T170000
DTEND;TZID=America/Vancouver:20250108T190000
DTSTAMP:20260424T195707
CREATED:20241004T201805Z
LAST-MODIFIED:20241004T201805Z
UID:7156-1732208400-1736362800@www.investkelowna.com
SUMMARY:November Commerce ConneX
DESCRIPTION:Join Kelowna Chamber of Commerce at Kelowna Mercedes- Benz for their networking event on Thursday November 21\, 2024! This is a networking event you’ll want to attend. \nRegister on their website! \n 
URL:https://www.investkelowna.com/event/november-commerce-connex/
LOCATION:kelowna mercedes benz\, 2580 Enterprise Way\, Kelowna\, BC\, V1X 7X5\, Canada
ATTACH;FMTTYPE=image/png:https://www.investkelowna.com/wp-content/uploads/2024/10/commerce-connex-mercedes.png
END:VEVENT
BEGIN:VEVENT
DTSTART;TZID=America/Vancouver:20241203T110000
DTEND;TZID=America/Vancouver:20241203T130000
DTSTAMP:20260424T195707
CREATED:20241108T220625Z
LAST-MODIFIED:20241108T220625Z
UID:7265-1733223600-1733230800@www.investkelowna.com
SUMMARY:Ladies Leadership Lunch and Learn
DESCRIPTION:Join MARKIBLACK Group Inc for an inspiring and insightful Ladies Leadership Lunch and Learn\, designed to empower women professionals like you to achieve success on your own terms. \nThis is the second event but this month will be extra special. It will be held at one of the most picturesque golf courses in the Okanagan with a 3-course hot lunch. \nTheir keynote focus will be on Setting and Achieving our Most Audacious Goals. This is a great opportunity to get ready for 2025. \nThis unique experience combines invaluable leadership insights\, engaging discussions\, and a delightful lunch in a supportive and collaborative environment. \nDiscover the secrets of successful female leaders and learn practical strategies for overcoming common challenges in workplace\, personal life and in your business. Connect with like-minded professionals\, share experiences\, and build a powerful network that will support your growth and development. \nRegister on Eventbrite! 
URL:https://www.investkelowna.com/event/ladies-leadership-lunch-and-learn/
LOCATION:The Okanagan Golf Club – Bear and Quail
ATTACH;FMTTYPE=image/png:https://www.investkelowna.com/wp-content/uploads/2024/11/Leadership-Lunch-and-Learn.png
END:VEVENT
BEGIN:VEVENT
DTSTART;TZID=America/Vancouver:20241204T100000
DTEND;TZID=America/Vancouver:20241204T110000
DTSTAMP:20260424T195707
CREATED:20241118T165122Z
LAST-MODIFIED:20241118T165122Z
UID:7300-1733306400-1733310000@www.investkelowna.com
SUMMARY:International Trade: Empowering Women Entrepreneurs
DESCRIPTION:Are you looking to grow your business outside of BC? \nThe international market presents growth opportunities\, yet it is also dynamic and complex\, which can make it challenging for entrepreneurs to navigate. \nOn December 4\, WeBC is hosting Export Navigator to discuss how women business owners can navigate international markets and explore how to approach sales and negotiations. They will explore tips and considerations for all types of businesses that are looking to sell internationally\, with specific examples for exporting agri-food products. \nTo learn more and register\, click here!
URL:https://www.investkelowna.com/event/international-trade-empowering-women-entrepreneurs/
LOCATION:Online
ATTACH;FMTTYPE=image/png:https://www.investkelowna.com/wp-content/uploads/2024/11/WeBC_Empowering-women-entrepreneurs.png
END:VEVENT
BEGIN:VEVENT
DTSTART;TZID=America/Vancouver:20241205T120000
DTEND;TZID=America/Vancouver:20241205T133000
DTSTAMP:20260424T195707
CREATED:20240801T220207Z
LAST-MODIFIED:20240801T220207Z
UID:6988-1733400000-1733405400@www.investkelowna.com
SUMMARY:Mingle & Jingle Holiday Lunch
DESCRIPTION:Join the Greater Westside Board of Trade on Thursday\, December 5 from12:00 – 1:30 pm at Shannon Lake Golf Course for their Annual Mingle and Jingle Lunch! \nAdvance registration is recommended. \n\nVenue: Shannon Lake Golf Course \nStarts: Thu Dec 5th 2024\, 12:00 pm PST \nEnds: Thu Dec 5th 2024\, 1:30 pm PST \nRegister Now!
URL:https://www.investkelowna.com/event/mingle-jingle-holiday-lunch/
LOCATION:Shannon Lake Golf\, 2649 Shannon Lake Golf\, West Kelowna\, BC\, V4T 1V6\, Canada
CATEGORIES:Business Networking
ATTACH;FMTTYPE=image/jpeg:https://www.investkelowna.com/wp-content/uploads/2024/08/Mingle-and-Jingle-GWBT.jpg
ORGANIZER;CN="Greater Westside Board of Trade":MAILTO:admin@gwboardoftrade.com
END:VEVENT
BEGIN:VEVENT
DTSTART;TZID=America/Vancouver:20241212T100000
DTEND;TZID=America/Vancouver:20241212T110000
DTSTAMP:20260424T195707
CREATED:20241118T165854Z
LAST-MODIFIED:20241118T165958Z
UID:7303-1733997600-1734001200@www.investkelowna.com
SUMMARY:The Mentorship Effect: How Women Entrepreneurs Build Stronger Businesses Together
DESCRIPTION:Being an entrepreneur is a journey and building a business can sometimes feel like an overwhelming process. Having the support of an experienced entrepreneur who has walked the path before and understands the landscape can be the beacon of light you need to see things clearly. \nOn December 12\, WeBC is hosting three women for a Fireside Chat to share how mentorship has played a role in their personal and professional growth: \nMichelle Guillet is the Founder & CEO of Electric Parasol\, a fractional operation\, business management\, and virtual assistance company with a creative edge.\nSalli Carter is the CEO of Carter Business Coaching & Consulting\, where she empowers women entrepreneurs to navigate change and achieve exponential growth.\nKaitlyn McConnell is the Skills Development and Mentoring Program Manager at WeBC\, where she has connected thousands of women with mentors. \nTo register and to learn more\, click here!
URL:https://www.investkelowna.com/event/the-mentorship-effect-how-women-entrepreneurs-build-stronger-businesses-together/
LOCATION:Online
ATTACH;FMTTYPE=image/png:https://www.investkelowna.com/wp-content/uploads/2024/11/webc-pic-2.png
END:VEVENT
BEGIN:VEVENT
DTSTART;TZID=America/Vancouver:20241212T160000
DTEND;TZID=America/Vancouver:20241212T180000
DTSTAMP:20260424T195707
CREATED:20241204T182329Z
LAST-MODIFIED:20241204T182329Z
UID:7313-1734019200-1734026400@www.investkelowna.com
SUMMARY:Holiday Hustle and Jingle Jam
DESCRIPTION:Get into the holiday spirit with Peachland Chamber of Commerce on December 12th from 4:00 to 6:000 pm at the Chambar Boardroom! Join fellow members and friends for a festive celebration filled with holiday prizes\, good company\, and plenty of cheer. \nDon’t forget to wear your favorite Christmas sweater\, Christmas Pjs\, or Onesie – They are ready to jingle and mingle! \nMark your calendar and celebrate the season together! \n 
URL:https://www.investkelowna.com/event/holiday-hustle-and-jingle-jam/
LOCATION:Peachland Chamber\, 5878 Beach Ave\, Peachland\, BC\, V0H 1X7\, Canada
ATTACH;FMTTYPE=image/png:https://www.investkelowna.com/wp-content/uploads/2024/12/holiday-hustle-and-jingle-jam.png
END:VEVENT
BEGIN:VEVENT
DTSTART;TZID=America/Vancouver:20241212T160000
DTEND;TZID=America/Vancouver:20241212T190000
DTSTAMP:20260424T195707
CREATED:20241108T221318Z
LAST-MODIFIED:20241108T221318Z
UID:7270-1734019200-1734030000@www.investkelowna.com
SUMMARY:Tech The Halls
DESCRIPTION:Get ready to celebrate the holiday season with AO and the Okanagan tech community at the annual Tech The Halls event! Join Accelerate Okanagan at the Innovation Centre for an unforgettable evening filled with festive vibes\, amazing connections\, and holiday cheer. We’re bringing the Okanagan tech and business communities together with food\, drinks\, live music\, and more! Don’t forget to wear your favorite festive attire—holiday sweaters are highly encouraged! \nWho Should Attend? \nIf you’re a business professional\, entrepreneur\, Innovation Centre tenant\, student\, or just someone looking to connect with the Okanagan business scene\, this is the perfect event to kick off your holiday season! Get ready to network\, celebrate\, and enjoy good company with like-minded individuals. \nWhat’s Included? \nTwo drink tickets for wine\, beer\, or Franco’s seltzer options\nComplimentary non-alcoholic drinks\nLight bites & treats from the talented team at Gather Restaurant\nLive music and a festive vibe\nMark your calendar\, bring your festive spirit\, and let’s Tech The Halls! \nRegister on Eventbrite!
URL:https://www.investkelowna.com/event/tech-the-halls-2/
LOCATION:The Innovation Centre
ATTACH;FMTTYPE=image/png:https://www.investkelowna.com/wp-content/uploads/2024/11/Tech-the-Halls.png
END:VEVENT
BEGIN:VEVENT
DTSTART;TZID=America/Vancouver:20241212T170000
DTEND;TZID=America/Vancouver:20241212T190000
DTSTAMP:20260424T195707
CREATED:20240708T212455Z
LAST-MODIFIED:20240801T215740Z
UID:6907-1734022800-1734030000@www.investkelowna.com
SUMMARY:December Business After Hours
DESCRIPTION:Join the Greater Westside Board of Trade on Thursday\, December 12 from 5-7pm at 4 Eyes Optometry for a great evening of networking\, local food and drink and some great prizes. \nAdvance registration is recommended. \n\nVenue: 4 Eyes Optometry – 525 Hwy 97 \, #402West Kelowna BC V1Z 4C9\, CA \nStarts: Thu Dec 12 2024\, 05:00pm PST \nEnds: Thu Dec 12 2024\, 07:00pm PST \nRegister Now!
URL:https://www.investkelowna.com/event/september-business-after-hours/
LOCATION:4 Eyes Optometry
CATEGORIES:Business Networking
ATTACH;FMTTYPE=image/jpeg:https://www.investkelowna.com/wp-content/uploads/2024/07/GWBOT.jpg-december.jpg
ORGANIZER;CN="Greater Westside Board of Trade":MAILTO:admin@gwboardoftrade.com
END:VEVENT
END:VCALENDAR