BEGIN:VCALENDAR
VERSION:2.0
PRODID:-//Central Okanagan Economic Development Commission - ECPv6.15.18//NONSGML v1.0//EN
CALSCALE:GREGORIAN
METHOD:PUBLISH
X-WR-CALNAME:Central Okanagan Economic Development Commission
X-ORIGINAL-URL:https://www.investkelowna.com
X-WR-CALDESC:Events for Central Okanagan Economic Development Commission
REFRESH-INTERVAL;VALUE=DURATION:PT1H
X-Robots-Tag:noindex
X-PUBLISHED-TTL:PT1H
BEGIN:VTIMEZONE
TZID:America/Vancouver
BEGIN:DAYLIGHT
TZOFFSETFROM:-0800
TZOFFSETTO:-0700
TZNAME:PDT
DTSTART:20240310T100000
END:DAYLIGHT
BEGIN:STANDARD
TZOFFSETFROM:-0700
TZOFFSETTO:-0800
TZNAME:PST
DTSTART:20241103T090000
END:STANDARD
BEGIN:DAYLIGHT
TZOFFSETFROM:-0800
TZOFFSETTO:-0700
TZNAME:PDT
DTSTART:20250309T100000
END:DAYLIGHT
BEGIN:STANDARD
TZOFFSETFROM:-0700
TZOFFSETTO:-0800
TZNAME:PST
DTSTART:20251102T090000
END:STANDARD
BEGIN:DAYLIGHT
TZOFFSETFROM:-0800
TZOFFSETTO:-0700
TZNAME:PDT
DTSTART:20260308T100000
END:DAYLIGHT
BEGIN:STANDARD
TZOFFSETFROM:-0700
TZOFFSETTO:-0800
TZNAME:PST
DTSTART:20261101T090000
END:STANDARD
END:VTIMEZONE
BEGIN:VEVENT
DTSTART;TZID=America/Vancouver:20250507T140000
DTEND;TZID=America/Vancouver:20250507T160000
DTSTAMP:20260424T102805
CREATED:20250416T173254Z
LAST-MODIFIED:20250416T173254Z
UID:8345-1746626400-1746633600@www.investkelowna.com
SUMMARY:Job Club
DESCRIPTION:KCR’s Job Club is a networking activity for newcomers who are seeking employment\, brushing up on their job search skills\, researching on local job market trends\, and needing job support from KCR’s best employment specialists
URL:https://www.investkelowna.com/event/job-club-2/
LOCATION:KCR Community Resources
ATTACH;FMTTYPE=image/png:https://www.investkelowna.com/wp-content/uploads/2025/04/KCR-May-networking-event.png
END:VEVENT
BEGIN:VEVENT
DTSTART;TZID=America/Vancouver:20250508T100000
DTEND;TZID=America/Vancouver:20250508T110000
DTSTAMP:20260424T102805
CREATED:20250502T163036Z
LAST-MODIFIED:20250502T163036Z
UID:8419-1746698400-1746702000@www.investkelowna.com
SUMMARY:Future-Proof Your Kelowna Business: A Pathway to Climate Action
DESCRIPTION:Free Webinar for Kelowna Business Leaders Hosted by GreenStep in Partnership with the City of Kelowna \nCalling all Kelowna-based businesses! Are you ready to take climate action and identify ways to save money and operate more efficiently? \nJoin GreenStep and the City of Kelowna for a free webinar to learn how your business can support the City of Kelowna’s climate goals\, measure and manage carbon emissions\, and take practical steps toward a more resilient\, successful future. \nRegister now to secure your spot.
URL:https://www.investkelowna.com/event/future-proof-your-kelowna-business-a-pathway-to-climate-action/
LOCATION:Online
ATTACH;FMTTYPE=image/png:https://www.investkelowna.com/wp-content/uploads/2025/05/Future-Proof.png
END:VEVENT
BEGIN:VEVENT
DTSTART;TZID=America/Vancouver:20250508T100000
DTEND;TZID=America/Vancouver:20250508T110000
DTSTAMP:20260424T102805
CREATED:20250502T170250Z
LAST-MODIFIED:20250502T170334Z
UID:8422-1746698400-1746702000@www.investkelowna.com
SUMMARY:Future-Proof Your Kelowna Business: A Pathway to Climate Action
DESCRIPTION:Free Webinar for Kelowna Business Leaders Hosted by GreenStep in Partnership with the City of Kelowna.\n\n\n\nCalling all Kelowna-based businesses! Are you ready to take climate action and identify ways to save money and operate more efficiently?\n\n\n\nJoin GreenStep and the City of Kelowna for a free webinar to learn how your business can support the City of Kelowna’s climate goals\, measure and manage carbon emissions\, and take practical steps toward a more resilient\, successful future.\n\n\n\nRegister now to secure your spot!
URL:https://www.investkelowna.com/event/future-proof-your-kelowna-business-a-pathway-to-climate-action-2/
LOCATION:Online
ATTACH;FMTTYPE=image/png:https://www.investkelowna.com/wp-content/uploads/2025/05/Future-Proof.png
END:VEVENT
BEGIN:VEVENT
DTSTART;TZID=America/Vancouver:20250512T080000
DTEND;TZID=America/Vancouver:20250512T140000
DTSTAMP:20260424T102805
CREATED:20250430T223346Z
LAST-MODIFIED:20250430T223346Z
UID:8407-1747036800-1747058400@www.investkelowna.com
SUMMARY:Manufacturing Excellence Forum - Kelowna
DESCRIPTION:The Central Okanagan Economic Development Commission is excited to sponsor the Manufacturing Excellence Forum – Kelowna! Join the Excellence in Manufacturing Consortium on May 12\, 2025\, for a dynamic day of collaboration\, innovation\, and real-world insights at EMC’s Manufacturing Excellence Forum in Kelowna. This event brings together manufacturers\, industry leaders\, and subject matter experts to explore the latest strategies driving operational excellence and business growth.\n\n\nGain practical knowledge through expert-led sessions\, network with peers facing similar challenges\, and discover fresh ideas to strengthen your manufacturing operations in today’s competitive landscape.\n\n\nWhy attend?\n\n\n Learn actionable best practices tailored for manufacturers\n Hear from industry leaders shaping the future of Canadian manufacturing\n Expand your network and connect with decision-makers in your region\n Bring back innovative ideas to drive productivity and growth in your organization\n\n\nSecure your spot today and be part of a movement to elevate manufacturing in British Columbia and beyond!\n\n\nRegister today!
URL:https://www.investkelowna.com/event/manufacturing-excellence-forum-kelowna/
LOCATION:kelowna
ATTACH;FMTTYPE=image/png:https://www.investkelowna.com/wp-content/uploads/2025/04/EMC.png
END:VEVENT
BEGIN:VEVENT
DTSTART;TZID=America/Vancouver:20250514T140000
DTEND;TZID=America/Vancouver:20250514T160000
DTSTAMP:20260424T102805
CREATED:20250416T173515Z
LAST-MODIFIED:20250416T173515Z
UID:8348-1747231200-1747238400@www.investkelowna.com
SUMMARY:Job Club
DESCRIPTION:KCR’s Job Club is a networking activity for newcomers who are seeking employment\, brushing up on their job search skills\, researching on local job market trends\, and needing job support from KCR’s best employment specialists
URL:https://www.investkelowna.com/event/job-club-3/
LOCATION:KCR Community Resources
ATTACH;FMTTYPE=image/png:https://www.investkelowna.com/wp-content/uploads/2025/04/KCR-May-networking-event.png
END:VEVENT
BEGIN:VEVENT
DTSTART;TZID=America/Vancouver:20250521T100000
DTEND;TZID=America/Vancouver:20250521T173000
DTSTAMP:20260424T102805
CREATED:20250515T163042Z
LAST-MODIFIED:20250515T163042Z
UID:8471-1747821600-1747848600@www.investkelowna.com
SUMMARY:Tourism Kelowna AGM & Tourism Industry Forum\, Wednesday May 21\, 2025
DESCRIPTION:Tourism Kelowna warmly invites tourism industry professionals and businesses to attend a full-day event at the Coast Capri Hotel on Wednesday\, May 21\, 2025. This exciting gathering will include a series of informative sessions\, our Annual General Meeting (AGM)\, and a lively Industry Social Mixer. \n\n10:00 a.m. – 11:00 a.m. Industry Brand Preview\nPresented in collaboration with Partners & Hawes\, this session offers a sneak peek at brand updates and initiatives that will shape the future of tourism marketing in Kelowna.\n11:15 a.m. – 12:15 p.m. Tourism Kelowna Leadership Updates\nHear from our leadership team as Lisanne Ballantyne (President & CEO)\, Nicolle Gomez De Sousa (Director of Business Development)\, and Chris Shauf (Director of Marketing & Communications) share key organizational updates\, strategic initiatives\, and forward-looking plans.\n1:30 p.m. – 2:00 p.m. Market Trends & Research\nExplore current market trends and digital insights. Discover how traveller behaviour is evolving and how it impacts our destination.\n2:30 p.m. – 3:30 p.m. Tourism Kelowna Annual General Meeting (AGM)\nWe invite our Tourism Kelowna members to participate in our AGM to hear official reports\, meet our Board of Directors\, and stay informed on Tourism Kelowna’s governance and strategic direction.\n3:30 p.m. – 5:30 p.m. Industry Social Mixer\nWrap up the day with networking\, refreshments\, and casual conversation. Connect with fellow industry members and strengthen community ties.
URL:https://www.investkelowna.com/event/tourism-kelowna-agm-tourism-industry-forum-wednesday-may-21-2025/
LOCATION:Coast Capri Hotel\, 1171 Harvey Avenue\, Kelowna\, BC\, V1Y 6E8\, Canada
ATTACH;FMTTYPE=image/png:https://www.investkelowna.com/wp-content/uploads/2025/05/TK-Annual-General-Meeting.png
ORGANIZER;CN="Tourism Kelowna":MAILTO:info@tourismkelowna.com
END:VEVENT
BEGIN:VEVENT
DTSTART;TZID=America/Vancouver:20250522T083000
DTEND;TZID=America/Vancouver:20250522T180000
DTSTAMP:20260424T102805
CREATED:20250422T220313Z
LAST-MODIFIED:20250422T220313Z
UID:8371-1747902600-1747936800@www.investkelowna.com
SUMMARY:Connect Money Impact 2025 - Kelowna
DESCRIPTION:Social entrepreneurs\, impact investors\, and ecosystem builders are invited to join us for a day of inspiration\, education\, and collaboration to explore the intersection of profit and impact\, community wealth building\, and impact investing. \nIn this one-day local summit\, you will learn with and connect with a diverse group of change-makers working to solve some of society’s most pressing issues. You can move past just a handshake or hello to a real conversation where you will spark or deepen meaningful relationships with folks actively working on complex social and environmental change. \nThe day offers sessions within different learning streams. Participants are encouraged to select the categories and streams they identified with most to participate in the most valuable conversations. \nStreams and sessions will feature the following content: \nSocial Entrepreneurs \n\nSocial enterprises as sustainable revenue streams\nCommunity wealth building through real estate\nCreating predictable income for social enterprises\nSocial procurement for impact\nPitching social enterprises to investors\n\nImpact Investors \n\nFunding social enterprises: grants\, loans\, and equity\nBlended capital for social and financial returns\nInvesting in sustainability and resource transitions\nIndigenous-led investing for long-term impact\nDecolonizing investing and grantmaking\n\nEcosystem builders \n\nPower-sharing and collaboration for change\nChoosing the right platforms for engagement\nMapping innovative funding ideas\nStrengthening local networks for impact\nBuilding stability in uncertain times\n\nPlease note that these are still forming and might change slightly! \nVisit our website to find out more \nEarly-bird tickets are available until March 31st at 11:59pm PST. \nFor those who may have questions about ticket pricing\, please feel free to reach out to us at melissa@purppl.com. We’re here to help and explore options to make our event more accessible for you.
URL:https://www.investkelowna.com/event/connect-money-impact-2025-kelowna/
LOCATION:Metro Hub
ATTACH;FMTTYPE=image/png:https://www.investkelowna.com/wp-content/uploads/2025/04/Event-Poster.png
END:VEVENT
BEGIN:VEVENT
DTSTART;TZID=America/Vancouver:20250522T180000
DTEND;TZID=America/Vancouver:20250522T200000
DTSTAMP:20260424T102805
CREATED:20250430T225503Z
LAST-MODIFIED:20250430T230031Z
UID:8414-1747936800-1747944000@www.investkelowna.com
SUMMARY:JCI New Members Night at Mercedes-Benz!
DESCRIPTION:Are you a young professional looking to grow your career\, expand your network\, and make a positive impact in your community? Join JCI Kelowna for an exciting evening of connection\, community\, and opportunity at the Junior Chambers International (JCI) New Members Night\, hosted at the stunning Mercedes-Benz Showroom on Thursday\, May 22nd\, from 6:00 PM to 8:00 PM. This is the perfect chance to meet like-minded individuals\, learn about JCI’s mission\, and discover how you can get involved in a community that’s committed to developing leadership\, personal growth\, and social impact. Whether you’re looking to advance your professional skills\, make new connections\, or get inspired by community-driven initiatives\, JCI is the place to be. \nRegister on Eventbrite.
URL:https://www.investkelowna.com/event/jci-new-members-night-at-mercedes-benz/
LOCATION:Mercedes-Benz Kelowna
ATTACH;FMTTYPE=image/jpeg:https://www.investkelowna.com/wp-content/uploads/2025/04/JCI-New-members-night-scaled.jpeg
END:VEVENT
BEGIN:VEVENT
DTSTART;TZID=America/Vancouver:20250527T120000
DTEND;TZID=America/Vancouver:20250527T130000
DTSTAMP:20260424T102805
CREATED:20250523T154252Z
LAST-MODIFIED:20250523T154252Z
UID:8520-1748347200-1748350800@www.investkelowna.com
SUMMARY:Free WeBC Business Loan Info Session
DESCRIPTION:Learn about the financing options available through WeBC! \nWeBC has a Business Loan Program\, and we are the BC Loan Fund Partner of the WEOC National Loan Program for women and non-binary entrepreneurs. \nIf you would like to access these programs to start\, expand or purchase a business you will need to participate in one of our free phone-in info sessions about the loan programs. \nDuring this session\, the facilitator will: \n\nReview our lending criteria for each program\nAnswer your questions\nAdvise you on how to apply\nProvide you with a resource package\n\nAn Advisor will work with you to determine if you are eligible for a loan. \nThese FREE phone-in sessions are held every Tuesday from 12pm to 1pm PT.
URL:https://www.investkelowna.com/event/free-webc-business-loan-info-session-6/
LOCATION:Online
ATTACH;FMTTYPE=image/png:https://www.investkelowna.com/wp-content/uploads/2025/05/WeBC-Free-webinar.png
END:VEVENT
BEGIN:VEVENT
DTSTART;TZID=America/Vancouver:20250528T120000
DTEND;TZID=America/Vancouver:20250528T130000
DTSTAMP:20260424T102805
CREATED:20250523T154717Z
LAST-MODIFIED:20250523T154717Z
UID:8524-1748433600-1748437200@www.investkelowna.com
SUMMARY:FREE Starting a Business Info Session | Part 1: How to Write a Business Plan
DESCRIPTION:Join WeBC to get inspired and excited about starting a business in BC! \nA business plan can help you test your ideas\, make decisions\, minimize your risk\, get funding and so much more. \nIn SBIS Part 1\, WeBC use the document “How to Write an Effective Business Plan” to break down business planning into 10 steps. \nYou will learn about: \n\nHow to structure your business plan and where you can go for industry-specific samples\nWhat to include in each section and how to think through them\nHow each part of your business plan works together to create a roadmap for your business.\n\nRegister free >>>
URL:https://www.investkelowna.com/event/free-starting-a-business-info-session-part-1-how-to-write-a-business-plan-2/
LOCATION:Webinar
ATTACH;FMTTYPE=image/png:https://www.investkelowna.com/wp-content/uploads/2025/05/WeBC-Business-Plan-Event.png
END:VEVENT
BEGIN:VEVENT
DTSTART;TZID=America/Vancouver:20250528T140000
DTEND;TZID=America/Vancouver:20250528T160000
DTSTAMP:20260424T102805
CREATED:20250416T173634Z
LAST-MODIFIED:20250416T173634Z
UID:8350-1748440800-1748448000@www.investkelowna.com
SUMMARY:Job Club
DESCRIPTION:KCR’s Job Club is a networking activity for newcomers who are seeking employment\, brushing up on their job search skills\, researching on local job market trends\, and needing job support from KCR’s best employment specialists
URL:https://www.investkelowna.com/event/job-club-4/
LOCATION:KCR Community Resources
ATTACH;FMTTYPE=image/png:https://www.investkelowna.com/wp-content/uploads/2025/04/KCR-May-networking-event.png
END:VEVENT
BEGIN:VEVENT
DTSTART;TZID=America/Vancouver:20250528T173000
DTEND;TZID=America/Vancouver:20250528T200000
DTSTAMP:20260424T102805
CREATED:20250515T180636Z
LAST-MODIFIED:20250515T180636Z
UID:8475-1748453400-1748462400@www.investkelowna.com
SUMMARY:OC Cultivates - Tasting Festival and Innovators in Conversation
DESCRIPTION:Embark on a journey that ignites your senses and sparks your curiosity! Hop on board to meet and mingle over delicious pairings and live music in the stunning KF Centre for Excellence. Then sit back and enjoy storytelling from renowned local innovators passionate about the Okanagan. \nStarting with our Tasting and Experience Festival at 5:30 p.m.\, and followed by the Innovators in Conversation at 7 p.m.\, don’t miss out on an evening showcasing the best food\, sips and speakers in the Okanagan. \nIncluded with your ticket purchase: \n\nFood and beverage tastings offered by local producers and restaurants\nOpportunity to mingle and network with industry leaders in food\, beverage and tourism\nConversations featuring some of the most esteemed leaders in Okanagan food\, beverage and tourism\nYour own take-home stemless wine glass\n\nRegister on Eventbrite.
URL:https://www.investkelowna.com/event/oc-cultivates-tasting-festival-and-innovators-in-conversation-2/
LOCATION:KF Centre for Excellence
ATTACH;FMTTYPE=image/png:https://www.investkelowna.com/wp-content/uploads/2025/05/OC-Cultivates.png
END:VEVENT
BEGIN:VEVENT
DTSTART;TZID=America/Vancouver:20250529T080000
DTEND;TZID=America/Vancouver:20250529T093000
DTSTAMP:20260424T102805
CREATED:20250514T172816Z
LAST-MODIFIED:20250514T172816Z
UID:8466-1748505600-1748511000@www.investkelowna.com
SUMMARY:Young Professional Coffee Social
DESCRIPTION:Are you ready to brew up some new connections? We are excited to collaborate with The Recovery Spa to host a coffee social on May 29th from 8:00 to 9:30 am for a morning of networking and socializing. \nHere’s What You Need to Know: \nNo Entrance Fee: Joining us is free! Coffee and snacks will be provided. Coffee is sponsored by Milk Shed Coffee House. \nCome When You Can: Drop by anytime between 8:00 – 9:30 a.m. Stay for a quick chat or linger longer over your coffee — the pace is yours to set. \nEvent Details: \n\nDate: May 29th\, 2025\nTime: Drop in anytime from 8:00 – 9 :30 a.m.\nLocation: The Recovery Spa – 2936 Pandosy Street\, Unit #3\, Kelowna\, BC\, V1Y 1V9\n\nRegister on Eventbrite! \nWho’s welcome? \n\nJust moved to town? Perfect\, meet your first friends here!\nGrew up in the Okanagan? Be the guide for newcomers.\nNew to the business world or a seasoned professional? Share stories and insights.\nWhether you’re under forty\, over forty (and yes\, we don’t check IDs)\, or anywhere in-between\, you’re welcome.\nNeed that morning caffeine fix to kickstart your day? We get it\, and we’ve got you covered.\nLooking to make new friends\, find your community footing again\, or broaden your professional network? You’re in the right place\nNo membership\, no sales pitches\, just genuine connections. We’re here to celebrate what makes living in the Okanagan great.\nThe OYP Collective\, part of the COEDC\, is your gateway to connecting with other dynamic young professionals in our community.\n\nTo learn more about The Recovery Spa\, visit www.therecoveryspa.ca \nTo learn more about Milk Shed Coffee House\, visit www.milkshedcoffeehouse.ca \nThe Okanagan Young Professionals (OYP) Collective is a program of the COEDC\, and a hub of resources to help attract and retain talent in the region. There’s no membership and we don’t sell anything (other than why it’s so great to live here). All are welcome to come out and join to connect with other awesome young professionals in our community!
URL:https://www.investkelowna.com/event/young-professional-coffee-social-15/
LOCATION:The Recovery Spa\, 2936 Pandosy Street\, Unit #3\,\, Kelowna\,\, BC\, V1Y 1V9\, Canada
ATTACH;FMTTYPE=image/png:https://www.investkelowna.com/wp-content/uploads/2025/05/May-2025-Coffee-Social-Poster.png
END:VEVENT
BEGIN:VEVENT
DTSTART;TZID=America/Vancouver:20250529T140000
DTEND;TZID=America/Vancouver:20250529T160000
DTSTAMP:20260424T102805
CREATED:20250416T173848Z
LAST-MODIFIED:20250416T173848Z
UID:8352-1748527200-1748534400@www.investkelowna.com
SUMMARY:Legal Rights & Responsibilities (Personal Safety) workshop
DESCRIPTION:Know Your Rights. Stay Informed. Feel Empowered.\nAre you curious about Canadian laws that affect your everyday life? Wondering how the documentation system works? Want to better understand your rights and responsibilities as a newcomer? Join KCR for this informative workshop featuring RCMP Constable Christopher Choy\, who will guide you through the essentials of Canadian law\, personal safety\, and the government system. Whether you attend online or in person\, this session is designed to empower you with practical knowledge to navigate life in Canada with confidence.
URL:https://www.investkelowna.com/event/legal-rights-responsibilities-personal-safety-workshop/
LOCATION:KCR Community Resources
ATTACH;FMTTYPE=image/png:https://www.investkelowna.com/wp-content/uploads/2025/04/KCR-May-networking-event.png
END:VEVENT
END:VCALENDAR