BEGIN:VCALENDAR
VERSION:2.0
PRODID:-//Central Okanagan Economic Development Commission - ECPv6.15.18//NONSGML v1.0//EN
CALSCALE:GREGORIAN
METHOD:PUBLISH
X-ORIGINAL-URL:https://www.investkelowna.com
X-WR-CALDESC:Events for Central Okanagan Economic Development Commission
REFRESH-INTERVAL;VALUE=DURATION:PT1H
X-Robots-Tag:noindex
X-PUBLISHED-TTL:PT1H
BEGIN:VTIMEZONE
TZID:America/Vancouver
BEGIN:DAYLIGHT
TZOFFSETFROM:-0800
TZOFFSETTO:-0700
TZNAME:PDT
DTSTART:20240310T100000
END:DAYLIGHT
BEGIN:STANDARD
TZOFFSETFROM:-0700
TZOFFSETTO:-0800
TZNAME:PST
DTSTART:20241103T090000
END:STANDARD
BEGIN:DAYLIGHT
TZOFFSETFROM:-0800
TZOFFSETTO:-0700
TZNAME:PDT
DTSTART:20250309T100000
END:DAYLIGHT
BEGIN:STANDARD
TZOFFSETFROM:-0700
TZOFFSETTO:-0800
TZNAME:PST
DTSTART:20251102T090000
END:STANDARD
BEGIN:DAYLIGHT
TZOFFSETFROM:-0800
TZOFFSETTO:-0700
TZNAME:PDT
DTSTART:20260308T100000
END:DAYLIGHT
BEGIN:STANDARD
TZOFFSETFROM:-0700
TZOFFSETTO:-0800
TZNAME:PST
DTSTART:20261101T090000
END:STANDARD
END:VTIMEZONE
BEGIN:VEVENT
DTSTART;TZID=America/Vancouver:20251105T133000
DTEND;TZID=America/Vancouver:20251105T153000
DTSTAMP:20260422T043712
CREATED:20251015T170734Z
LAST-MODIFIED:20251015T170734Z
UID:9089-1762349400-1762356600@www.investkelowna.com
SUMMARY:Job Club
DESCRIPTION:KCR’s Job Club is a networking activity for newcomers who are seeking employment\, brushing up on their job search skills\, researching on local job market trends\, and needing job support from KCR’s best employment specialists. \nWhere: KCR Office – 618 Bernard Avenue
URL:https://www.investkelowna.com/event/job-club-13/
LOCATION:KCR Office
ATTACH;FMTTYPE=image/png:https://www.investkelowna.com/wp-content/uploads/2025/04/KCR-May-networking-event.png
END:VEVENT
BEGIN:VEVENT
DTSTART;TZID=America/Vancouver:20251112T133000
DTEND;TZID=America/Vancouver:20251112T153000
DTSTAMP:20260422T043712
CREATED:20251015T170833Z
LAST-MODIFIED:20251015T170833Z
UID:9091-1762954200-1762961400@www.investkelowna.com
SUMMARY:Job Club
DESCRIPTION:KCR’s Job Club is a networking activity for newcomers who are seeking employment\, brushing up on their job search skills\, researching on local job market trends\, and needing job support from KCR’s best employment specialists. \nWhere: KCR Office – 618 Bernard Avenue
URL:https://www.investkelowna.com/event/job-club-14/
LOCATION:KCR Office
ATTACH;FMTTYPE=image/png:https://www.investkelowna.com/wp-content/uploads/2025/04/KCR-May-networking-event.png
END:VEVENT
BEGIN:VEVENT
DTSTART;TZID=America/Vancouver:20251113T150000
DTEND;TZID=America/Vancouver:20251113T170000
DTSTAMP:20260422T043712
CREATED:20251106T170959Z
LAST-MODIFIED:20251106T170959Z
UID:9213-1763046000-1763053200@www.investkelowna.com
SUMMARY:Okanagan Business Women Social Meet
DESCRIPTION:Okanagan Business Women getting together to connect\, network and have fun.\n\n\nRegister on Eventbrite – https://www.eventbrite.ca/e/okanagan-business-women-social-meet-tickets-1412746535919?aff=ebdssbdestsearch
URL:https://www.investkelowna.com/event/okanagan-business-women-social-meet-6/
LOCATION:Kelly O’Bryans\, Canada
ATTACH;FMTTYPE=image/png:https://www.investkelowna.com/wp-content/uploads/2025/05/Events-Calendar-.png
END:VEVENT
BEGIN:VEVENT
DTSTART;TZID=America/Vancouver:20251119T170000
DTEND;TZID=America/Vancouver:20251119T190000
DTSTAMP:20260422T043712
CREATED:20251106T174151Z
LAST-MODIFIED:20251106T174151Z
UID:9225-1763571600-1763578800@www.investkelowna.com
SUMMARY:Commerce ConneX
DESCRIPTION:Kelowna Chamber of Commerce is thrilled to announce their November Commerce ConneX 2025\, brought to you by Rogers Business. \nJoin them at Sandhill Winery with co-host YMCA.
URL:https://www.investkelowna.com/event/commerce-connex/
LOCATION:Sandhill Wines
ATTACH;FMTTYPE=image/png:https://www.investkelowna.com/wp-content/uploads/2025/11/tmp_18590_9-24-2025_112357_.png
END:VEVENT
BEGIN:VEVENT
DTSTART;TZID=America/Vancouver:20251120T170000
DTEND;TZID=America/Vancouver:20251120T190000
DTSTAMP:20260422T043712
CREATED:20251106T180127Z
LAST-MODIFIED:20251106T180127Z
UID:9229-1763658000-1763665200@www.investkelowna.com
SUMMARY:November Business After Hours
DESCRIPTION:Join Greater Westside Board of Trade for their business after hours on November 20th from 5:00 pm to 7:00 pm. \nGet your tickets today – https://www.gwboardoftrade.com/event-calendar/#!event/register/2025/11/20/november-business-after-hours
URL:https://www.investkelowna.com/event/november-business-after-hours-2/
LOCATION:Kelly O’bryans
ATTACH;FMTTYPE=image/jpeg:https://www.investkelowna.com/wp-content/uploads/2025/11/GWBOT-After-Hours.jpg
ORGANIZER;CN="Greater Westside Board of Trade":MAILTO:admin@gwboardoftrade.com
END:VEVENT
BEGIN:VEVENT
DTSTART;TZID=America/Vancouver:20251126T083000
DTEND;TZID=America/Vancouver:20251126T100000
DTSTAMP:20260422T043712
CREATED:20251106T162729Z
LAST-MODIFIED:20251106T162729Z
UID:9196-1764145800-1764151200@www.investkelowna.com
SUMMARY:Young Professional Coffee Social
DESCRIPTION:Are you ready to brew up some new connections? We are excited to collaborate with The Lake Country Chamber of Commerce to host a coffee social at Lake Country Radio Cafe on Wednesday\, November 26th from 8:30 am to 10:00 am for a morning of networking and socializing. \nEnjoy fresh coffee\, light networking\, and great company to kickstart your day. Whether you’re a young professional\, a community connector\, or just love a good morning vibe—this event is for you! \nHere’s What You Need to Know: \nNo Entrance Fee: Joining us is free! You set your budget – beverages and snacks can be purchased from Lake Country Radio Cafe\, allowing you to enjoy their delicious offerings while you network. \nCome When You Can: Drop by anytime between 8:30 – 10:00 am. Stay for a quick chat or linger longer over your coffee — the pace is yours to set. \nEvent Details: \n\nDate: November 26th\, 2025\nTime: Drop in anytime from 8:30 – 10:00 am\nLocation: Lake Country Radio Cafe\, 10356 Bottom Wood Lake Rd\, Lake Country\, BC V4V 1T9\n\nWho’s welcome? \n\nJust moved to town? Perfect\, meet your first friends here!\nGrew up in the Okanagan? Be the guide for newcomers.\nNew to the business world or a seasoned professional? Share stories and insights.\nWhether you’re under forty\, over forty (and yes\, we don’t check IDs)\, or anywhere in-between\, you’re welcome.\nNeed that morning caffeine fix to kickstart your day? We get it\, and we’ve got you covered.\nLooking to make new friends\, find your community footing again\, or broaden your professional network? You’re in the right place\nNo membership\, no sales pitches\, just genuine connections. We’re here to celebrate what makes living in the Okanagan great.\nThe OYP Collective\, part of the COEDC\, is your gateway to connecting with other dynamic young professionals in our community.\n\nTo learn more about The Lake Country Chamber of Commerce\, visit https://www.lakecountrychamber.com/ \nTo learn more about Lake Country Radio Cafe visit https://www.instagram.com/lakecountryradiocafe?igsh=dXpqaGJrNHRhNTM5&utm_source=qr \nThe Okanagan Young Professionals (OYP) Collective is a program of the COEDC\, and a hub of resources to help attract and retain talent in the region. There’s no membership and we don’t sell anything (other than why it’s so great to live here). All are welcome to come out and join to connect with other awesome young professionals in our community!
URL:https://www.investkelowna.com/event/young-professional-coffee-social-20/
LOCATION:Lake Country Radio Cafe\, 10356 Bottom Wood Lake Road\, Lake Country\, V4V 1T9\, Canada
ATTACH;FMTTYPE=image/png:https://www.investkelowna.com/wp-content/uploads/2025/11/November-2025-Social_Banner.png
END:VEVENT
BEGIN:VEVENT
DTSTART;TZID=America/Vancouver:20251126T110000
DTEND;TZID=America/Vancouver:20251126T130000
DTSTAMP:20260422T043712
CREATED:20251106T171606Z
LAST-MODIFIED:20251106T171749Z
UID:9216-1764154800-1764162000@www.investkelowna.com
SUMMARY:2025 JCI Kelowna Mayor's Luncheon
DESCRIPTION:Join JCI Kelowna for their annual JCI Kelowna Mayor’s Luncheon\, a must-attend event that brings together the local business leaders\, community members and of course\, our esteemed Mayor Tom Dyas. The event will be hosted at the The Ramada located in Kelowna. This in-person luncheon is a great opportunity to connect\, engage\, and grow within your community. \nRegister on Eventbrite – https://www.eventbrite.ca/e/2025-jci-kelowna-mayors-luncheon-tickets-1808293708159?aff=ebdshpsearchautocomplete \n  \n 
URL:https://www.investkelowna.com/event/2025-jci-kelowna-mayors-luncheon/
LOCATION:The Ramada\, 2170 Harvey Ave\, Kelowna\, British Columbia\, V1Y 6G8\, Canada
ATTACH;FMTTYPE=image/jpeg:https://www.investkelowna.com/wp-content/uploads/2025/11/Mayors-Luncheon-JCI-Kelowna.jpg
END:VEVENT
BEGIN:VEVENT
DTSTART;TZID=America/Vancouver:20251126T133000
DTEND;TZID=America/Vancouver:20251126T153000
DTSTAMP:20260422T043712
CREATED:20251015T170921Z
LAST-MODIFIED:20251015T170921Z
UID:9093-1764163800-1764171000@www.investkelowna.com
SUMMARY:Job Club
DESCRIPTION:KCR’s Job Club is a networking activity for newcomers who are seeking employment\, brushing up on their job search skills\, researching on local job market trends\, and needing job support from KCR’s best employment specialists. \nWhere: KCR Office – 618 Bernard Avenue
URL:https://www.investkelowna.com/event/job-club-15/
LOCATION:KCR Office
ATTACH;FMTTYPE=image/png:https://www.investkelowna.com/wp-content/uploads/2025/04/KCR-May-networking-event.png
END:VEVENT
BEGIN:VEVENT
DTSTART;TZID=America/Vancouver:20251127T100000
DTEND;TZID=America/Vancouver:20251127T120000
DTSTAMP:20260422T043712
CREATED:20251106T164011Z
LAST-MODIFIED:20251106T164011Z
UID:9202-1764237600-1764244800@www.investkelowna.com
SUMMARY:Future of Funding: How AI is Changing the Game
DESCRIPTION:​AI is reshaping how funding decisions are made\, but is it helping or hindering women founders? This is not a technical workshop or demo. Instead\, it’s a community dialogue where founders and ecosystem builders explore the real impact of AI on funding pathways.
URL:https://www.investkelowna.com/event/future-of-funding-how-ai-is-changing-the-game/
LOCATION:Online
ATTACH;FMTTYPE=image/png:https://www.investkelowna.com/wp-content/uploads/2025/11/Future-of-Funding-Event.png
END:VEVENT
BEGIN:VEVENT
DTSTART;TZID=America/Vancouver:20251127T133000
DTEND;TZID=America/Vancouver:20251127T150000
DTSTAMP:20260422T043712
CREATED:20251106T172425Z
LAST-MODIFIED:20251106T172425Z
UID:9221-1764250200-1764255600@www.investkelowna.com
SUMMARY:IP Masterclass: Advanced IP Agreements – Partnership and Manufacturing
DESCRIPTION:​This session dives into the strategies\, risks\, and negotiation tips for partnership agreements and manufacturing agreements. \n​Explore practical examples\, uncover common pitfalls\, and learn how to safeguard your business relationships for long-term success. \nRegister here: https://luma.com/vy3kd6qp
URL:https://www.investkelowna.com/event/ip-masterclass-advanced-ip-agreements-partnership-and-manufacturing/
LOCATION:Online
ATTACH;FMTTYPE=image/png:https://www.investkelowna.com/wp-content/uploads/2025/11/IP-Masterclass.png
END:VEVENT
END:VCALENDAR